BEGIN:VCALENDAR
VERSION:2.0
PRODID:-//Visit Faribault Minnesota - ECPv6.15.12.2//NONSGML v1.0//EN
CALSCALE:GREGORIAN
METHOD:PUBLISH
X-WR-CALNAME:Visit Faribault Minnesota
X-ORIGINAL-URL:https://visitfaribault.com
X-WR-CALDESC:Events for Visit Faribault Minnesota
REFRESH-INTERVAL;VALUE=DURATION:PT1H
X-Robots-Tag:noindex
X-PUBLISHED-TTL:PT1H
BEGIN:VTIMEZONE
TZID:America/Chicago
BEGIN:DAYLIGHT
TZOFFSETFROM:-0600
TZOFFSETTO:-0500
TZNAME:CDT
DTSTART:20240310T080000
END:DAYLIGHT
BEGIN:STANDARD
TZOFFSETFROM:-0500
TZOFFSETTO:-0600
TZNAME:CST
DTSTART:20241103T070000
END:STANDARD
BEGIN:DAYLIGHT
TZOFFSETFROM:-0600
TZOFFSETTO:-0500
TZNAME:CDT
DTSTART:20250309T080000
END:DAYLIGHT
BEGIN:STANDARD
TZOFFSETFROM:-0500
TZOFFSETTO:-0600
TZNAME:CST
DTSTART:20251102T070000
END:STANDARD
BEGIN:DAYLIGHT
TZOFFSETFROM:-0600
TZOFFSETTO:-0500
TZNAME:CDT
DTSTART:20260308T080000
END:DAYLIGHT
BEGIN:STANDARD
TZOFFSETFROM:-0500
TZOFFSETTO:-0600
TZNAME:CST
DTSTART:20261101T070000
END:STANDARD
END:VTIMEZONE
BEGIN:VEVENT
DTSTART;TZID=America/Chicago:20251120T170000
DTEND;TZID=America/Chicago:20251120T190000
DTSTAMP:20260422T175214
CREATED:20250711T000801Z
LAST-MODIFIED:20250711T000801Z
UID:10001564-1763658000-1763665200@visitfaribault.com
SUMMARY:Holly Days Opening Reception & Sale
DESCRIPTION:Holly Days Opening Reception & Sale\n\nCome on down and join us Thursday November 20th\, from 5pm to 7pm\, to celebrate our annual Holly Days Sale! The sale contains beautiful artwork made by local artists\, all of which is available for purchase\, and makes the most amazing and unique holiday gifts! The Holly Days Sale runs from November 17th to December 20th\, so don’t miss it!\n\nA big thank you to our sponsors ~ Southern Heights Dental Group and K&M Heating and Air Conditioning\, for making this 2025-2026 gallery season possible!
URL:https://visitfaribault.com/event/holly-days-opening-reception-sale/
LOCATION:Paradise Center for the Arts\, 321 Central Ave N\, Faribault\, 55021\, United States
ATTACH;FMTTYPE=image/jpeg:https://visitfaribault.com/wp-content/uploads/2025/07/509362898_1268448618616344_398828331683019758_n.jpg
ORGANIZER;CN="Paradise Center for the Arts":MAILTO:info@paradisecenterforthearts.org
END:VEVENT
BEGIN:VEVENT
DTSTART;TZID=America/Chicago:20251121T193000
DTEND;TZID=America/Chicago:20251121T210000
DTSTAMP:20260422T175214
CREATED:20250812T200541Z
LAST-MODIFIED:20250812T200541Z
UID:10001944-1763753400-1763758800@visitfaribault.com
SUMMARY:Christmas with Lorie Line
DESCRIPTION:Christmas with Lorie Line \nChristmas with Lorie Line \nFriday\, November 21\, 2025\, 7pm at Paradise Center for the Arts \nThe tradition continues! Lorie Line returns to the stage as a solo pianist and celebrates the Christmas season with faith-filled stories and the best-of-the-best holiday music. This year’s tour marks her 36th year of touring. As always\, expect beautiful costumes\, elegant piano arrangements\, funny stories\, and personal tender words that reflect the true meaning of Christmas as she brings her concert grand piano to the center stage. (The age restriction for this show is 10 and up. No infants or toddlers please.) \nPlease go to Lorie’s website to purchase tickets: www.lorieline.com/tour \n 
URL:https://visitfaribault.com/event/christmas-with-lorie-line/
LOCATION:Paradise Center for the Arts\, 321 Central Ave N\, Faribault\, 55021\, United States
ATTACH;FMTTYPE=image/jpeg:https://visitfaribault.com/wp-content/uploads/2025/07/516649476_122271573314079642_6730426855702039666_n.jpg
ORGANIZER;CN="Paradise Center for the Arts":MAILTO:info@paradisecenterforthearts.org
END:VEVENT
END:VCALENDAR