BEGIN:VCALENDAR
VERSION:2.0
PRODID:-//Visit Faribault Minnesota - ECPv6.15.12.2//NONSGML v1.0//EN
CALSCALE:GREGORIAN
METHOD:PUBLISH
X-WR-CALNAME:Visit Faribault Minnesota
X-ORIGINAL-URL:https://visitfaribault.com
X-WR-CALDESC:Events for Visit Faribault Minnesota
REFRESH-INTERVAL;VALUE=DURATION:PT1H
X-Robots-Tag:noindex
X-PUBLISHED-TTL:PT1H
BEGIN:VTIMEZONE
TZID:America/Chicago
BEGIN:DAYLIGHT
TZOFFSETFROM:-0600
TZOFFSETTO:-0500
TZNAME:CDT
DTSTART:20230312T080000
END:DAYLIGHT
BEGIN:STANDARD
TZOFFSETFROM:-0500
TZOFFSETTO:-0600
TZNAME:CST
DTSTART:20231105T070000
END:STANDARD
BEGIN:DAYLIGHT
TZOFFSETFROM:-0600
TZOFFSETTO:-0500
TZNAME:CDT
DTSTART:20240310T080000
END:DAYLIGHT
BEGIN:STANDARD
TZOFFSETFROM:-0500
TZOFFSETTO:-0600
TZNAME:CST
DTSTART:20241103T070000
END:STANDARD
BEGIN:DAYLIGHT
TZOFFSETFROM:-0600
TZOFFSETTO:-0500
TZNAME:CDT
DTSTART:20250309T080000
END:DAYLIGHT
BEGIN:STANDARD
TZOFFSETFROM:-0500
TZOFFSETTO:-0600
TZNAME:CST
DTSTART:20251102T070000
END:STANDARD
BEGIN:DAYLIGHT
TZOFFSETFROM:-0600
TZOFFSETTO:-0500
TZNAME:CDT
DTSTART:20260308T080000
END:DAYLIGHT
BEGIN:STANDARD
TZOFFSETFROM:-0500
TZOFFSETTO:-0600
TZNAME:CST
DTSTART:20261101T070000
END:STANDARD
END:VTIMEZONE
BEGIN:VEVENT
DTSTART;TZID=America/Chicago:20251121T193000
DTEND;TZID=America/Chicago:20251121T210000
DTSTAMP:20260422T141112
CREATED:20250812T200541Z
LAST-MODIFIED:20250812T200541Z
UID:10001944-1763753400-1763758800@visitfaribault.com
SUMMARY:Christmas with Lorie Line
DESCRIPTION:Christmas with Lorie Line \nChristmas with Lorie Line \nFriday\, November 21\, 2025\, 7pm at Paradise Center for the Arts \nThe tradition continues! Lorie Line returns to the stage as a solo pianist and celebrates the Christmas season with faith-filled stories and the best-of-the-best holiday music. This year’s tour marks her 36th year of touring. As always\, expect beautiful costumes\, elegant piano arrangements\, funny stories\, and personal tender words that reflect the true meaning of Christmas as she brings her concert grand piano to the center stage. (The age restriction for this show is 10 and up. No infants or toddlers please.) \nPlease go to Lorie’s website to purchase tickets: www.lorieline.com/tour \n 
URL:https://visitfaribault.com/event/christmas-with-lorie-line/
LOCATION:Paradise Center for the Arts\, 321 Central Ave N\, Faribault\, 55021\, United States
ATTACH;FMTTYPE=image/jpeg:https://visitfaribault.com/wp-content/uploads/2025/07/516649476_122271573314079642_6730426855702039666_n.jpg
ORGANIZER;CN="Paradise Center for the Arts":MAILTO:info@paradisecenterforthearts.org
END:VEVENT
BEGIN:VEVENT
DTSTART;TZID=America/Chicago:20250925T173000
DTEND;TZID=America/Chicago:20250925T193000
DTSTAMP:20260422T141112
CREATED:20250812T200530Z
LAST-MODIFIED:20250812T200530Z
UID:10001942-1758821400-1758828600@visitfaribault.com
SUMMARY:Paint a Portrait of your Pet with Artist Julie Fakler
DESCRIPTION:Paint a Portrait of your Pet with artist Julie Fakler\, with Wine: Thursday\, September 25th from 5:30 – 7:30 PM. (Ages 21 and up!) Artist Julie Fakler will teach you\, step by step\, how to paint a portrait of your pet. In class\, you’ll learn about underpainting\, form\, shape\, and color. Email your pet photo to info@paradisecenterforthearts.org\, and we will print it out for you. Wear clothes that can get paint on them. Students must get registered 3 days prior to the start of class. Tuition – Member: $36\, Non-Member: $40. (Supplies included in the tuition!)
URL:https://visitfaribault.com/event/paint-a-portrait-of-your-pet-with-artist-julie-fakler/
LOCATION:Paradise Center for the Arts\, 321 Central Ave N\, Faribault\, 55021\, United States
ATTACH;FMTTYPE=image/jpeg:https://visitfaribault.com/wp-content/uploads/2025/07/514600486_1282152203912652_8982141954004487444_n.jpeg
ORGANIZER;CN="Paradise Center for the Arts":MAILTO:info@paradisecenterforthearts.org
END:VEVENT
BEGIN:VEVENT
DTSTART;TZID=America/Chicago:20250823T100000
DTEND;TZID=America/Chicago:20250823T163000
DTSTAMP:20260422T141112
CREATED:20250812T200519Z
LAST-MODIFIED:20250812T200519Z
UID:10001941-1755943200-1755966600@visitfaribault.com
SUMMARY:Watercolor Duck Class with Artist Marcie Hayunga
DESCRIPTION:Watercolor Duck Class with Marcie Hayunga: Saturday\, August 23rd from 12 – 4 PM. Join us for a fun and relaxing watercolor class where we’ll create a charming duck painting while learning the fundamentals of watercolor technique. In this hands-on session\, you’ll explore essential skills including how to: control water and pigment for beautiful washes\, create white\, layer with glazing to add depth\, and paint backgrounds to bring your duck to life! This class is perfect for beginners or anyone wanting to build confidence with watercolor. All materials will be provided—just bring your creativity and wear clothes you don’t mind getting a little messy! Tuition – Member: $52\, Non-Member: $60. (Supplies Included in tuition!)
URL:https://visitfaribault.com/event/watercolor-duck-class-with-artist-marcie-hayunga/
LOCATION:Paradise Center for the Arts\, 321 Central Ave N\, Faribault\, 55021\, United States
ATTACH;FMTTYPE=image/jpeg:https://visitfaribault.com/wp-content/uploads/2025/07/517393945_1285408453587027_4401315993249639067_n-1.jpg
ORGANIZER;CN="Paradise Center for the Arts":MAILTO:info@paradisecenterforthearts.org
END:VEVENT
BEGIN:VEVENT
DTSTART;TZID=America/Chicago:20250823T100000
DTEND;TZID=America/Chicago:20250823T150000
DTSTAMP:20260422T141112
CREATED:20250812T200505Z
LAST-MODIFIED:20250812T200505Z
UID:10001940-1755943200-1755961200@visitfaribault.com
SUMMARY:Triangle Quilt with Artist Julie Fakler
DESCRIPTION:Triangle Quilt with Artist Julie Fakler: Saturdays\, August 23 & 30\, 10AM-3PM\, 30 minutes for lunch. This class is for someone who knows how to use a sewing machine and iron. Ages 16 and up. Member $80/ Non-Member $90. Supply fee $25. Create a 35” X 50” triangle quilt in two sessions! Students will learn how to piece a quilt top and assemble the three layers of the quilt: quilt top\, batting\, and back. Students will be given precut triangles\, batting\, and quilt backs. Students will learn how to sew the triangles together using a sewing machine to create the quilt top\, and binding. Between the classes students will tie or hand quilt their quilts. Students will return to class to trim their quilts and add binding. Everything you need will be provided by Julie. Instructor: Julie Fakler. \nPlease bring a lunch to class. Students will use a sewing machine\, iron\, and rotary blade and will be using a needle and thread to hand sew. Pat Jarrett and Katrina Deyoung-Harper donated the fabric.
URL:https://visitfaribault.com/event/triangle-quilt-with-artist-julie-fakler/2025-08-23/2/
LOCATION:Paradise Center for the Arts\, 321 Central Ave N\, Faribault\, 55021\, United States
ATTACH;FMTTYPE=image/jpeg:https://visitfaribault.com/wp-content/uploads/2025/07/494098279_1229136659214207_3472901126825081597_n.jpg
ORGANIZER;CN="Paradise Center for the Arts":MAILTO:info@paradisecenterforthearts.org
END:VEVENT
BEGIN:VEVENT
DTSTART;TZID=America/Chicago:20250823T080000
DTEND;TZID=America/Chicago:20250823T170000
DTSTAMP:20260422T141112
CREATED:20250812T200505Z
LAST-MODIFIED:20250812T200505Z
UID:10001939-1755936000-1755968400@visitfaribault.com
SUMMARY:Triangle Quilt with Artist Julie Fakler
DESCRIPTION:Triangle Quilt with Artist Julie Fakler: Saturdays\, August 23 & 30\, 10AM-3PM\, 30 minutes for lunch. This class is for someone who knows how to use a sewing machine and iron. Ages 16 and up. Member $80/ Non-Member $90. Supply fee $25. Create a 35” X 50” triangle quilt in two sessions! Students will learn how to piece a quilt top and assemble the three layers of the quilt: quilt top\, batting\, and back. Students will be given precut triangles\, batting\, and quilt backs. Students will learn how to sew the triangles together using a sewing machine to create the quilt top\, and binding. Between the classes students will tie or hand quilt their quilts. Students will return to class to trim their quilts and add binding. Everything you need will be provided by Julie. Instructor: Julie Fakler. \nPlease bring a lunch to class. Students will use a sewing machine\, iron\, and rotary blade and will be using a needle and thread to hand sew. Pat Jarrett and Katrina Deyoung-Harper donated the fabric.
URL:https://visitfaribault.com/event/triangle-quilt-with-artist-julie-fakler/2025-08-23/1/
LOCATION:Paradise Center for the Arts\, 321 Central Ave N\, Faribault\, 55021\, United States
ATTACH;FMTTYPE=image/jpeg:https://visitfaribault.com/wp-content/uploads/2025/07/494098279_1229136659214207_3472901126825081597_n.jpg
ORGANIZER;CN="Paradise Center for the Arts":MAILTO:info@paradisecenterforthearts.org
END:VEVENT
BEGIN:VEVENT
DTSTART;TZID=America/Chicago:20250802T120000
DTEND;TZID=America/Chicago:20250802T150000
DTSTAMP:20260422T141112
CREATED:20250812T200437Z
LAST-MODIFIED:20250812T200437Z
UID:10001568-1754136000-1754146800@visitfaribault.com
SUMMARY:Potted Ivy Watercolor Class with artist Marcie Hayunga
DESCRIPTION:Potted Ivy Watercolor Class with Marcie Hayunga: Saturday\, August 2nd from 12 PM – 3 PM. In this fun and hands-on class\, you’ll dive into the beautiful world of watercolor art. We’ll explore essential techniques such as watercolor basics\, how to preserve and create whites\, managing water for different effects\, the art of glazing\, and building stunning backgrounds that bring your compositions to life. Whether you’re brand new to watercolor or looking to sharpen your skills\, this class is for you! Tuition – Member: $42\, Non-Member: $48. (Includes supply fees!)
URL:https://visitfaribault.com/event/potted-ivy-watercolor-class-with-artist-marcie-hayunga/
LOCATION:Paradise Center for the Arts\, 321 Central Ave N\, Faribault\, 55021\, United States
ATTACH;FMTTYPE=image/jpeg:https://visitfaribault.com/wp-content/uploads/2025/07/515882011_1282106577250548_2063210336797407375_n.jpg
ORGANIZER;CN="Paradise Center for the Arts":MAILTO:info@paradisecenterforthearts.org
END:VEVENT
BEGIN:VEVENT
DTSTART;TZID=America/Chicago:20240820T170000
DTEND;TZID=America/Chicago:20240820T190000
DTSTAMP:20260422T141112
CREATED:20240728T220905Z
LAST-MODIFIED:20240728T220905Z
UID:10001381-1724173200-1724180400@visitfaribault.com
SUMMARY:Paint a Portrait of your Pet 2.0 with Artist Julie Fakler (2-part class)
DESCRIPTION:Paint a Portrait of your Pet 2.0with Artist Julie Fakler (Ages 14 & up.) \nIn this 2-part class\, artist Julie Fakler will teach you step by step on how to paint a portrait of your pet. In class you’ll learn about under painting\, form\, shape and color. In the first class we will complete the first layer of colors (paint)\, and we’ll re-turn the next day to add a second layer of colors (paint). If time allows for more layers can be added to your masterpiece. Email your pet photo to info@paradisecenterforthearts.org and we can print it out for you. Wear clothes that can get paint on them. Supply fee $10.00 per student. Instructor: Julie Fakler. Please register by August 16.
URL:https://visitfaribault.com/event/paint-a-portrait-of-your-pet-2-0-with-artist-julie-fakler-2-part-class/
LOCATION:Paradise Center for the Arts\, 321 Central Ave N\, Faribault\, 55021\, United States
ATTACH;FMTTYPE=image/jpeg:https://visitfaribault.com/wp-content/uploads/2024/07/IMG_20210329_200328_944-1920w-1.jpg
ORGANIZER;CN="Paradise Center for the Arts":MAILTO:info@paradisecenterforthearts.org
END:VEVENT
END:VCALENDAR