BEGIN:VCALENDAR
VERSION:2.0
PRODID:-//Visit Faribault Minnesota - ECPv6.15.12.2//NONSGML v1.0//EN
CALSCALE:GREGORIAN
METHOD:PUBLISH
X-WR-CALNAME:Visit Faribault Minnesota
X-ORIGINAL-URL:https://visitfaribault.com
X-WR-CALDESC:Events for Visit Faribault Minnesota
REFRESH-INTERVAL;VALUE=DURATION:PT1H
X-Robots-Tag:noindex
X-PUBLISHED-TTL:PT1H
BEGIN:VTIMEZONE
TZID:America/Chicago
BEGIN:DAYLIGHT
TZOFFSETFROM:-0600
TZOFFSETTO:-0500
TZNAME:CDT
DTSTART:20240310T080000
END:DAYLIGHT
BEGIN:STANDARD
TZOFFSETFROM:-0500
TZOFFSETTO:-0600
TZNAME:CST
DTSTART:20241103T070000
END:STANDARD
BEGIN:DAYLIGHT
TZOFFSETFROM:-0600
TZOFFSETTO:-0500
TZNAME:CDT
DTSTART:20250309T080000
END:DAYLIGHT
BEGIN:STANDARD
TZOFFSETFROM:-0500
TZOFFSETTO:-0600
TZNAME:CST
DTSTART:20251102T070000
END:STANDARD
BEGIN:DAYLIGHT
TZOFFSETFROM:-0600
TZOFFSETTO:-0500
TZNAME:CDT
DTSTART:20260308T080000
END:DAYLIGHT
BEGIN:STANDARD
TZOFFSETFROM:-0500
TZOFFSETTO:-0600
TZNAME:CST
DTSTART:20261101T070000
END:STANDARD
END:VTIMEZONE
BEGIN:VEVENT
DTSTART;TZID=America/Chicago:20250110T170000
DTEND;TZID=America/Chicago:20250110T190000
DTSTAMP:20260423T231529
CREATED:20240722T143343Z
LAST-MODIFIED:20250108T232049Z
UID:10001372-1736528400-1736535600@visitfaribault.com
SUMMARY:Art Gallery Exhibitions and Artists Opening Reception at Paradise Center for the Arts
DESCRIPTION:You are invited to our newly installed art exhibitions at our four on-site galleries. \n  \nCarlander Gallery:  Laura Andrews \nVranesh Gallery:    Montana Becker \nK & M Galley:         Bob Vogel \nCreger Gallery:       TBD \n  \nOpening Reception: January 10\, 2025\,  5-7pm \nGallery exhibitions are available for viewing from January 8 to February 15\, 2025 \nOpen hours: Wednesday through Friday\, 12pm-5pm and Saturdays\, 10am-2pm \n 
URL:https://visitfaribault.com/event/art-gallery-exhibitions-and-artists-opening-reception-at-paradise-center-for-the-arts/
LOCATION:Paradise Center for the Arts\, 321 Central Ave N\, Faribault\, 55021\, United States
ATTACH;FMTTYPE=image/jpeg:https://visitfaribault.com/wp-content/uploads/2024/07/4.-AndrewsL_Canopy-3_oil_36X36_2024.jpg
ORGANIZER;CN="Paradise Center for the Arts":MAILTO:info@paradisecenterforthearts.org
END:VEVENT
END:VCALENDAR