BEGIN:VCALENDAR
VERSION:2.0
PRODID:-//Visit Faribault Minnesota - ECPv6.15.12.2//NONSGML v1.0//EN
CALSCALE:GREGORIAN
METHOD:PUBLISH
X-WR-CALNAME:Visit Faribault Minnesota
X-ORIGINAL-URL:https://visitfaribault.com
X-WR-CALDESC:Events for Visit Faribault Minnesota
REFRESH-INTERVAL;VALUE=DURATION:PT1H
X-Robots-Tag:noindex
X-PUBLISHED-TTL:PT1H
BEGIN:VTIMEZONE
TZID:America/Chicago
BEGIN:DAYLIGHT
TZOFFSETFROM:-0600
TZOFFSETTO:-0500
TZNAME:CDT
DTSTART:20230312T080000
END:DAYLIGHT
BEGIN:STANDARD
TZOFFSETFROM:-0500
TZOFFSETTO:-0600
TZNAME:CST
DTSTART:20231105T070000
END:STANDARD
BEGIN:DAYLIGHT
TZOFFSETFROM:-0600
TZOFFSETTO:-0500
TZNAME:CDT
DTSTART:20240310T080000
END:DAYLIGHT
BEGIN:STANDARD
TZOFFSETFROM:-0500
TZOFFSETTO:-0600
TZNAME:CST
DTSTART:20241103T070000
END:STANDARD
BEGIN:DAYLIGHT
TZOFFSETFROM:-0600
TZOFFSETTO:-0500
TZNAME:CDT
DTSTART:20250309T080000
END:DAYLIGHT
BEGIN:STANDARD
TZOFFSETFROM:-0500
TZOFFSETTO:-0600
TZNAME:CST
DTSTART:20251102T070000
END:STANDARD
END:VTIMEZONE
BEGIN:VEVENT
DTSTART;TZID=America/Chicago:20240504T210000
DTEND;TZID=America/Chicago:20240504T233000
DTSTAMP:20260422T132933
CREATED:20240429T155010Z
LAST-MODIFIED:20240429T155011Z
UID:10001337-1714856400-1714865400@visitfaribault.com
SUMMARY:Mister Peabody LIVE! at Boxers in Faribault
DESCRIPTION:Mister Peabody’s first appearance at Boxers in Faribault.Saturday\, May 4th from 9pm – 1 am
URL:https://visitfaribault.com/event/mister-peabody-live-at-boxers-in-faribault/
LOCATION:Minnesota
ATTACH;FMTTYPE=image/jpeg:https://visitfaribault.com/wp-content/uploads/2024/04/438100911_1098362861402626_4495712536251271040_n-3.jpg
ORGANIZER;CN="Boxers Bar &amp%3B Grill":MAILTO:dawn@boxersbar.com
END:VEVENT
BEGIN:VEVENT
DTSTART;TZID=America/Chicago:20240505T120000
DTEND;TZID=America/Chicago:20240505T180000
DTSTAMP:20260422T132933
CREATED:20240426T133944Z
LAST-MODIFIED:20240426T133944Z
UID:10001332-1714910400-1714932000@visitfaribault.com
SUMMARY:Cinco de Mayo Fiesta at the Winery
DESCRIPTION:We’re having a fiesta at the winery! Celebrate Cinco de Mayo with us as we offer:• Wine margaritas added to the Wine Cocktail menu for the day• Chips & salsa & guacamole added to the menu for the day• Party favors• Fun pen & paper games to play with your family and friends
URL:https://visitfaribault.com/event/cinco-de-mayo-fiesta-at-the-winery/
LOCATION:Vintage Escapes Winery\, 8950 Dodd Rd\, Kilkenny\, MN\, 56052\, United States
ATTACH;FMTTYPE=image/png:https://visitfaribault.com/wp-content/uploads/2024/04/Cinco-de-Mayo-at-the-Winery.png
END:VEVENT
BEGIN:VEVENT
DTSTART;TZID=America/Chicago:20240512T120000
DTEND;TZID=America/Chicago:20240512T180000
DTSTAMP:20260422T132933
CREATED:20240426T133959Z
LAST-MODIFIED:20240426T133959Z
UID:10001333-1715515200-1715536800@visitfaribault.com
SUMMARY:Mother's Day at the Winery
DESCRIPTION:Celebrate Mom at the winery this Mother’s Day!*Live music with Bruce Burniece 1-4pm.*Flavored wine mimosas*Mother’s Day craft to make with Mom! (while supplies last)*Fun pen & paper games to play with Mom!\nWhat better way to spend Mother’s Day than at the winery with wine\, wine mimosas\, great music\, gorgeous views and relaxation!\nWe will not be taking reservations so just come on out. The tasting room is open 12-6pm. The kitchen will be open and serving food 12-5pm.
URL:https://visitfaribault.com/event/mothers-day-at-the-winery/
LOCATION:Vintage Escapes Winery\, 8950 Dodd Rd\, Kilkenny\, MN\, 56052\, United States
ATTACH;FMTTYPE=image/png:https://visitfaribault.com/wp-content/uploads/2024/04/2024-Mothers-Day-at-Vintage-Escapes-Winery.png
END:VEVENT
BEGIN:VEVENT
DTSTART;TZID=America/Chicago:20240517T180000
DTEND;TZID=America/Chicago:20240517T210000
DTSTAMP:20260422T132933
CREATED:20240321T155758Z
LAST-MODIFIED:20240619T133207Z
UID:10001322-1715968800-1715979600@visitfaribault.com
SUMMARY:Faribault Downtown Car Cruise Night
DESCRIPTION:Cruise into Historic Downtown every\nthird Friday for Car Cruise Nights!\nExperience classic and unique cars\,\ntrucks\, and motorcycles. Enjoy local\nfood\, live music\, and it’s all free for\nparticipants & spectators. Join us for\na Friday night filled with automotive\ncharm in the heart of Historic\nDowntown Faribault! \nhttps://www.facebook.com/Faribocarcruise
URL:https://visitfaribault.com/event/faribault-downtown-car-cruise-night/2024-05-17/
LOCATION:Downtown Fairbault\, Central Ave N\, Faribault\, MN\, 55021\, United States
ATTACH;FMTTYPE=image/png:https://visitfaribault.com/wp-content/uploads/2024/03/Faribault-Car-Cruise-2024-10.png
END:VEVENT
BEGIN:VEVENT
DTSTART;TZID=America/Chicago:20240518T090000
DTEND;TZID=America/Chicago:20240518T180000
DTSTAMP:20260422T132933
CREATED:20240321T153537Z
LAST-MODIFIED:20240321T153537Z
UID:10001321-1716022800-1716055200@visitfaribault.com
SUMMARY:Straight River Art Festival
DESCRIPTION:The festival will feature\ndemonstrations\, food\, music and\nbooths featuring fine arts and crafts.\nAll work must be created by the\npresenting artists and be either\noriginals or reproductions of original\nwork (i.e. cards\, prints\, etc.)\nThe range of work is amazing;\nweaving to welding\, glass to\ngemstones\, clay to carving – and\neverything in between! Whether\ntourists are long-time collectors or are\njust looking for something unique\,\nthe festival is a perfect way to shop\nfor fine art.\n\nstraightriverartfestival.com
URL:https://visitfaribault.com/event/straight-river-art-festival/
LOCATION:Minnesota
ATTACH;FMTTYPE=image/jpeg:https://visitfaribault.com/wp-content/uploads/2024/03/straight-river-art-fest-scaled.jpg
END:VEVENT
BEGIN:VEVENT
DTSTART;TZID=America/Chicago:20240518T180000
DTEND;TZID=America/Chicago:20240518T200000
DTSTAMP:20260422T132933
CREATED:20240426T134047Z
LAST-MODIFIED:20240426T134047Z
UID:10001334-1716055200-1716062400@visitfaribault.com
SUMMARY:Seinfeld Trivia
DESCRIPTION:Study up on your Seinfeld knowledge and join us for an evening or of trivia!– Free to play– 3 rounds of 12 questions– Prize awarded to each round’s winning team.– Max of 4 people per team
URL:https://visitfaribault.com/event/seinfeld-trivia/
LOCATION:Vintage Escapes Winery\, 8950 Dodd Rd\, Kilkenny\, MN\, 56052\, United States
ATTACH;FMTTYPE=image/png:https://visitfaribault.com/wp-content/uploads/2024/04/Seinfeld-Trivia.png
END:VEVENT
BEGIN:VEVENT
DTSTART;TZID=America/Chicago:20240519T140000
DTEND;TZID=America/Chicago:20240519T170000
DTSTAMP:20260422T132933
CREATED:20240426T134053Z
LAST-MODIFIED:20240426T134053Z
UID:10001335-1716127200-1716138000@visitfaribault.com
SUMMARY:Chad Johnson & Jeenti Live Music
DESCRIPTION:Come out to the winery to see Chad Johnson & Jeenti! It’s always guaranteed to be a great time with this talented duo!There’s nothing better than wine and music.\n*Live music is under the outdoor pavilion. Dress and plan accordingly.*Seating is on a first come basis.*We always suggest bringing a chair just in case all our seats fill up.
URL:https://visitfaribault.com/event/chad-johnson-jeenti-live-music/
LOCATION:Vintage Escapes Winery\, 8950 Dodd Rd\, Kilkenny\, MN\, 56052\, United States
ATTACH;FMTTYPE=image/jpeg:https://visitfaribault.com/wp-content/uploads/2024/04/FB_IMG_1664642870739.jpg
END:VEVENT
BEGIN:VEVENT
DTSTART;TZID=America/Chicago:20240525T120000
DTEND;TZID=America/Chicago:20240525T210000
DTSTAMP:20260422T132933
CREATED:20240426T134100Z
LAST-MODIFIED:20240426T134100Z
UID:10001336-1716638400-1716670800@visitfaribault.com
SUMMARY:5 Year Anniversary - Vintage Escapes Winery
DESCRIPTION:We’re celebrating a big one – 5 years! Join us. We want to celebrate this big milestone with none other than YOU – our incredible customers and supporters. We have two talented local music groups performing throughout the day as well as pizza being served up by Pleasant Grove Pizza Farm!Shenanigans @ 1-4pmPop Prohibition @ 5-7pmPleasant Grove Pizza Farm (Time TBD)\n\n**Music will be outside under the outdoor pavilion.**We suggest bringing a chair in case seats fill up.
URL:https://visitfaribault.com/event/5-year-anniversary-vintage-escapes-winery/
LOCATION:Vintage Escapes Winery\, 8950 Dodd Rd\, Kilkenny\, MN\, 56052\, United States
ATTACH;FMTTYPE=image/png:https://visitfaribault.com/wp-content/uploads/2024/04/5th-Anniversary-Celebration.png
END:VEVENT
END:VCALENDAR