BEGIN:VCALENDAR
VERSION:2.0
PRODID:-//Visit Faribault Minnesota - ECPv6.15.12.2//NONSGML v1.0//EN
CALSCALE:GREGORIAN
METHOD:PUBLISH
X-WR-CALNAME:Visit Faribault Minnesota
X-ORIGINAL-URL:https://visitfaribault.com
X-WR-CALDESC:Events for Visit Faribault Minnesota
REFRESH-INTERVAL;VALUE=DURATION:PT1H
X-Robots-Tag:noindex
X-PUBLISHED-TTL:PT1H
BEGIN:VTIMEZONE
TZID:America/Chicago
BEGIN:DAYLIGHT
TZOFFSETFROM:-0600
TZOFFSETTO:-0500
TZNAME:CDT
DTSTART:20240310T080000
END:DAYLIGHT
BEGIN:STANDARD
TZOFFSETFROM:-0500
TZOFFSETTO:-0600
TZNAME:CST
DTSTART:20241103T070000
END:STANDARD
BEGIN:DAYLIGHT
TZOFFSETFROM:-0600
TZOFFSETTO:-0500
TZNAME:CDT
DTSTART:20250309T080000
END:DAYLIGHT
BEGIN:STANDARD
TZOFFSETFROM:-0500
TZOFFSETTO:-0600
TZNAME:CST
DTSTART:20251102T070000
END:STANDARD
BEGIN:DAYLIGHT
TZOFFSETFROM:-0600
TZOFFSETTO:-0500
TZNAME:CDT
DTSTART:20260308T080000
END:DAYLIGHT
BEGIN:STANDARD
TZOFFSETFROM:-0500
TZOFFSETTO:-0600
TZNAME:CST
DTSTART:20261101T070000
END:STANDARD
END:VTIMEZONE
BEGIN:VEVENT
DTSTART;TZID=America/Chicago:20250626T190000
DTEND;TZID=America/Chicago:20250626T210000
DTSTAMP:20260424T045335
CREATED:20250528T152615Z
LAST-MODIFIED:20250528T155030Z
UID:10001496-1750964400-1750971600@visitfaribault.com
SUMMARY:Faribault Concerts in the Park: Old Country Boys
DESCRIPTION:Old Country Boys Band! Celebrating their 10th year of performing country music! The band was built on “Hard Drivin Classic Country Music” with some hints of classic rock and southern rock! Jeff Sartor Lead Singer\, brother Greg Sartor\, Mark Burmesiter Bass Guitar\, (all 3 Faribault natives) and last but not least Kevin Eastburn on Drums.
URL:https://visitfaribault.com/event/concerts-in-the-park-old-country-boys/
LOCATION:Central Park\, 510 2nd Ave NW\, Faribault\, Minnesota\, 55021\, United States
ATTACH;FMTTYPE=image/jpeg:https://visitfaribault.com/wp-content/uploads/2025/05/Old-Country-Boys-1.jpg
END:VEVENT
BEGIN:VEVENT
DTSTART;TZID=America/Chicago:20250627T100000
DTEND;TZID=America/Chicago:20250627T110000
DTSTAMP:20260424T045335
CREATED:20250529T144753Z
LAST-MODIFIED:20250529T144756Z
UID:10001507-1751018400-1751022000@visitfaribault.com
SUMMARY:Fun Friday in Central Park: Siama's Congo Roots
DESCRIPTION:Join Buckham Library outdoors in Faribault’s Central Park at 10:00 AM on Friday\, June 27 for a full band concert by Siama’s Congo Roots! \n\n\n\nFor this very special morning concert\, Siama Matuzungidi will be joined by a full band including singer Dallas Johnson\, a keyboardist\, a bassist\, and a drummer. Siama’s upbeat music is enjoyed by all ages and this exciting band is top tier so don’t miss it! \n\n\n\nLearn more about Siama at https://siamamusic.com/ \n\n\n\nAn ASL interpreter has been confirmed for this event. \n\n\n\nThis project is made possible with money from Minnesota’s Arts and Cultural Heritage Fund and the people of Minnesota for Library Legacy activities.
URL:https://visitfaribault.com/event/fun-friday-in-central-park-siamas-congo-roots/
LOCATION:Central Park\, 510 2nd Ave NW\, Faribault\, Minnesota\, 55021\, United States
ATTACH;FMTTYPE=image/jpeg:https://visitfaribault.com/wp-content/uploads/2025/05/Fun-Friday-in-Central-Park-Siamas-Congo-Roots.jpg
END:VEVENT
BEGIN:VEVENT
DTSTART;TZID=America/Chicago:20250628T193000
DTEND;TZID=America/Chicago:20250628T210000
DTSTAMP:20260424T045336
CREATED:20250506T181144Z
LAST-MODIFIED:20250506T181147Z
UID:10001479-1751139000-1751144400@visitfaribault.com
SUMMARY:Transit Authority: Tribute to Chicago
DESCRIPTION:Since performing their very first shows together in the early spring of 2004\, Transit Authority has become known throughout the U.S. as the premier tribute band to the iconic group Chicago.  \n\n\n\nBased out of St. Paul\, Minnesota\, this eight-member ensemble creates an accurate musical salute to the greatest horn-driven rock band to ever hit the stage. Transit Authority’s mission is to recreate the excitement of the original Chicago’s sound with each and every performance. (Minus the cracks and pops of the vinyl!) Transit Authority has assembled some amazingly talented musicians who meticulously capture all the nuances of the original recordings and will honestly make you believe you are witnessing the real thing.  \n\n\n\nPerforming mega-hits such as\, “Does Anybody Really Know What Time It Is?\,” “Hard Habit to Break\,” “Make Me Smile\,” “Old Days\,” “Just You’n Me\,” “Beginnings\,” “Wake Up Sunshine\,” and many more.
URL:https://visitfaribault.com/event/transit-authority-tribute-to-chicago/
LOCATION:Paradise Center for the Arts\, 321 Central Ave N\, Faribault\, 55021\, United States
ATTACH;FMTTYPE=image/jpeg:https://visitfaribault.com/wp-content/uploads/2025/05/Transit-Authority-Tribute-to-Chicago.jpg
ORGANIZER;CN="Paradise Center for the Arts":MAILTO:info@paradisecenterforthearts.org
END:VEVENT
BEGIN:VEVENT
DTSTART;TZID=America/Chicago:20250703T190000
DTEND;TZID=America/Chicago:20250703T210000
DTSTAMP:20260424T045336
CREATED:20250528T153155Z
LAST-MODIFIED:20250528T155113Z
UID:10001497-1751569200-1751576400@visitfaribault.com
SUMMARY:Faribault Concerts in the Park: Mankato Area Community Band
DESCRIPTION:The Mankato Area Community Band had entertained audiences in Sibley Park\, Mankato\, for 100 years. They perform a wide variety of concert band standards\, marches\, new and old show tunes and movie tunes\, Big Band\, jazz and patriotic music.
URL:https://visitfaribault.com/event/faribault-concerts-in-the-park-mankato-area-community-band-2/
LOCATION:Central Park\, 510 2nd Ave NW\, Faribault\, Minnesota\, 55021\, United States
ATTACH;FMTTYPE=image/jpeg:https://visitfaribault.com/wp-content/uploads/2025/05/Mankato-Area-Community-Band-1.jpg
END:VEVENT
BEGIN:VEVENT
DTSTART;TZID=America/Chicago:20250704T220000
DTEND;TZID=America/Chicago:20250704T230000
DTSTAMP:20260424T045336
CREATED:20250512T194333Z
LAST-MODIFIED:20250512T194337Z
UID:10001486-1751666400-1751670000@visitfaribault.com
SUMMARY:4th of July Fireworks
DESCRIPTION:Fireworks will launch from North Alexander Park\, making it one of the best spots to experience the show up close. For optimal views\, head to the north side of Faribault — though the night sky will sparkle across the entire town! \n\n\n\nRecommended viewing locations include North and South Alexander Park\, the Lincoln Elementary School parking lot\, Two Rivers Park\, and Central Park. Bring your chairs\, blankets\, and enjoy the celebration!
URL:https://visitfaribault.com/event/4th-of-july-fireworks/
LOCATION:Minnesota
ATTACH;FMTTYPE=image/jpeg:https://visitfaribault.com/wp-content/uploads/2025/05/Rice-County-Fireworks.jpg
END:VEVENT
END:VCALENDAR