BEGIN:VCALENDAR
VERSION:2.0
PRODID:-//Visit Faribault Minnesota - ECPv6.15.12.2//NONSGML v1.0//EN
CALSCALE:GREGORIAN
METHOD:PUBLISH
X-WR-CALNAME:Visit Faribault Minnesota
X-ORIGINAL-URL:https://visitfaribault.com
X-WR-CALDESC:Events for Visit Faribault Minnesota
REFRESH-INTERVAL;VALUE=DURATION:PT1H
X-Robots-Tag:noindex
X-PUBLISHED-TTL:PT1H
BEGIN:VTIMEZONE
TZID:America/Chicago
BEGIN:DAYLIGHT
TZOFFSETFROM:-0600
TZOFFSETTO:-0500
TZNAME:CDT
DTSTART:20240310T080000
END:DAYLIGHT
BEGIN:STANDARD
TZOFFSETFROM:-0500
TZOFFSETTO:-0600
TZNAME:CST
DTSTART:20241103T070000
END:STANDARD
BEGIN:DAYLIGHT
TZOFFSETFROM:-0600
TZOFFSETTO:-0500
TZNAME:CDT
DTSTART:20250309T080000
END:DAYLIGHT
BEGIN:STANDARD
TZOFFSETFROM:-0500
TZOFFSETTO:-0600
TZNAME:CST
DTSTART:20251102T070000
END:STANDARD
BEGIN:DAYLIGHT
TZOFFSETFROM:-0600
TZOFFSETTO:-0500
TZNAME:CDT
DTSTART:20260308T080000
END:DAYLIGHT
BEGIN:STANDARD
TZOFFSETFROM:-0500
TZOFFSETTO:-0600
TZNAME:CST
DTSTART:20261101T070000
END:STANDARD
END:VTIMEZONE
BEGIN:VEVENT
DTSTART;TZID=America/Chicago:20250412T100000
DTEND;TZID=America/Chicago:20250412T110000
DTSTAMP:20260424T084009
CREATED:20250330T084323Z
LAST-MODIFIED:20250330T084323Z
UID:10001440-1744452000-1744455600@visitfaribault.com
SUMMARY:Kid's Day: Mosaics with Mica Lee Anders
DESCRIPTION:Join us for another awesome kid’s day activity where we will be creating beautiful mosaics and learning about the local history of Rice County’s early African American community with genealogist and historian Mica Lee Anders. Kids will be able to make a picture frame to take home.\n\nContact 507-332-2121 or education@rchistory.org to register for this FREE event.
URL:https://visitfaribault.com/event/kids-day-mosaics-with-mica-lee-anders/
LOCATION:Rice County Historical Society\, 1814 NW 2ND AVE\, FARIBAULT\, MN\, 55021\, United States
ATTACH;FMTTYPE=image/png:https://visitfaribault.com/wp-content/uploads/2025/03/April-Kids-Day.png
ORGANIZER;CN="Rice County Historical Society":MAILTO:rchs@rchistory.org
END:VEVENT
BEGIN:VEVENT
DTSTART;TZID=America/Chicago:20250417T180000
DTEND;TZID=America/Chicago:20250417T190000
DTSTAMP:20260424T084009
CREATED:20250330T084251Z
LAST-MODIFIED:20250330T084251Z
UID:10001439-1744912800-1744916400@visitfaribault.com
SUMMARY:Taopi the "Wounded Man" with Dave Nichols
DESCRIPTION:Have you ever wanted to learn how to embroider? Now is your chance! Join the Rice County Historical Society for the second event in our workshop series and learn the basics of embroidery! Our demonstrator Marie Tuma will show participants how to stamp embroidery patterns and start stitching away. Those who sign up will get an embroidery kit\, sewing hoop\, and will walk away with a completed piece! \nMarie Tuma is the Vice President of the Rice County Historical Society and a long-time volunteer. She’s been responsible for several of RCHS’s exhibits as well as helping processing our collections. She has made a hobby of embroidery and quilting\, and recently led a quilting workshop. Thank you to Marie for sharing her expertise! \nPrice is $20 for Members and $25 for Non-Members! Seats are limited so call 507-332-2121 to reserve a spot\, or visit our website at rchistory.org!
URL:https://visitfaribault.com/event/taopi-the-wounded-man-with-dave-nichols/
LOCATION:Rice County Historical Society\, 1814 NW 2ND AVE\, FARIBAULT\, MN\, 55021\, United States
ORGANIZER;CN="Rice County Historical Society":MAILTO:rchs@rchistory.org
END:VEVENT
BEGIN:VEVENT
DTSTART;TZID=America/Chicago:20250419T110000
DTEND;TZID=America/Chicago:20250419T140000
DTSTAMP:20260424T084009
CREATED:20250330T084931Z
LAST-MODIFIED:20250330T084933Z
UID:10001441-1745060400-1745071200@visitfaribault.com
SUMMARY:Easter EggStravaganza Party
DESCRIPTION:Hop on over to FHD for a fun-filled Easter celebration!🌷Join us on Saturday\, April 19th from 11 AM to 2 PM for a delightful time! 🥳We’ll be serving up delicious mac & cheese with hot dogs\, sweet Easter treats\, & refreshing pink lemonade 🍋! (While supplies last!)Capture the magic with FREE photos with the Easter Bunny! 📸🐰 Plus\, let the little ones unleash their creativity in our coloring room! Don’t miss our Easter egg hunt @Noon!🥚Two age groups for the hunt:Little Bikers (Ages 5 & Under): Get a 1-minute head start! 🏁Medium Bikers (Ages 6-12) will be right behind ’em!Come create unforgettable Easter memories with us! 🎉 We can’t wait to see you there! 😊 \n\n\n\nhttps://tinyurl.com/tm9nczxr4
URL:https://visitfaribault.com/event/easter-eggstravaganza-party/
LOCATION:MN
ATTACH;FMTTYPE=image/jpeg:https://visitfaribault.com/wp-content/uploads/2025/03/IMG_1431.jpeg
END:VEVENT
BEGIN:VEVENT
DTSTART;TZID=America/Chicago:20250503T130000
DTEND;TZID=America/Chicago:20250503T143000
DTSTAMP:20260424T084009
CREATED:20250415T212016Z
LAST-MODIFIED:20250415T212016Z
UID:10001446-1746277200-1746282600@visitfaribault.com
SUMMARY:Metis in Minnesota\, A Story of Us All with Corinne Monjeau-Marz
DESCRIPTION:Join the Rice County Historical Society for Corinne Monjeau-Marz’s talk Metis in Minnesota\, A Story of Us All. The Metis are a people native to Canada whose origins are marked by the mixing of European\, notably French\, and Indigenous Peoples. The Metis people often served as translators and traders during the Fur Trade. Learn about the Metis in Minnesota and their importance throughout Minnesota history. \nCorinne L. Monjeau-Marz is an independent historian\, researcher\, and author and makes her home in Cottage Grove\, Minnesota. The focus of her study and traveling is related to the Early Explorers & Indigenous Contact\, the Early Portage& Fur Trade Routes\, and the 1862 US-Dakota War. For over sixty years she has been collecting antique images and documents now used in her writing projects\, programs offered\, and in her business\, Minnesota Territory (books and images). She is Minnesota-born and is a descendant of French-Canadian\, English\, German immigrants\, and Minnesota’s Mdewakanton Dakota\, Northern Minnesota Ojibwe\, and Wisconsin Ho-Chunk (Winnebago) People. \nProgram is free for members\, $5 for non-members. To reserve your spot call 507-332-2121 or email us at rchs@rchistory.org.
URL:https://visitfaribault.com/event/metis-in-minnesota-a-story-of-us-all-with-corinne-monjeau-marz/
LOCATION:Rice County Historical Society\, 1814 NW 2ND AVE\, FARIBAULT\, MN\, 55021\, United States
ATTACH;FMTTYPE=image/png:https://visitfaribault.com/wp-content/uploads/2025/04/Metis-in-Minnesota-A-Story-of-Us-All-1.png
ORGANIZER;CN="Rice County Historical Society":MAILTO:rchs@rchistory.org
END:VEVENT
BEGIN:VEVENT
DTSTART;TZID=America/Chicago:20250508T150000
DTEND;TZID=America/Chicago:20250508T210000
DTSTAMP:20260424T084009
CREATED:20250212T215140Z
LAST-MODIFIED:20250213T212215Z
UID:10001421-1746716400-1746738000@visitfaribault.com
SUMMARY:Faribault's Ladies Night Out - Mom's Night
DESCRIPTION:Ladies\, it’s time to SHOP\, DINE\, & EXPLORE at the Faribault Ladies Night Out on May 8th! \n\n\n\nJoin us for a special evening celebrating moms and all the amazing women in our lives. Participating businesses will be offering exclusive deals and specials\, making it the perfect opportunity to find unique gifts\, treat yourself\, or simply enjoy a fun night out with friends. \n\n\n\nExplore the charm of Faribault\, discover new favorites\, and support our local community. \n\n\n\nWant to win amazing prizes? Our passport program details are coming soon\, along with the event map and sale guide! \n\n\n\nGet ready for a night of shopping\, dining\, and fun! \n\n\n\nBusiness Sign-up: https://forms.gle/vJxgLe9ASVBsZwSf6 \n\n\n\nParticipating Businesses:Wildfire RootsThe Oasis Cafe \n\n\n\nThis event is a Historic Downtown Faribault & Faribault Area Chamber of Commerce Event
URL:https://visitfaribault.com/event/moms-night/
LOCATION:Faribault\, MN\, Faribault\, Minnesota\, 55021\, United States
ATTACH;FMTTYPE=image/png:https://visitfaribault.com/wp-content/uploads/2025/02/Nightout-1920-x-1005-px-6.png
ORGANIZER;CN="Faribault Chamber of Commerce & Tourism":MAILTO:chamber@faribaultmn.org
END:VEVENT
BEGIN:VEVENT
DTSTART;TZID=America/Chicago:20250510T000000
DTEND;TZID=America/Chicago:20250511T235959
DTSTAMP:20260424T084009
CREATED:20250330T084129Z
LAST-MODIFIED:20250330T084129Z
UID:10001438-1746835200-1747007999@visitfaribault.com
SUMMARY:Riverside Rendezvous & History Festival
DESCRIPTION:Step back in time with the Rice County Historical Society as we present our Riverside Rendezvous & History Festival! This living history event is a chance to see the trades\, tradition\, and history of the 18th and 19th Century come alive before your eyes! We will have demonstrators\, reenactors\, music\, food\, and most of all fun for the whole family!
URL:https://visitfaribault.com/event/riverside-rendezvous-history-festival/
LOCATION:North Alexander Park\, 1816 2nd Ave NW\, Faribault\, Minnesota\, 55021\, United States
ATTACH;FMTTYPE=image/png:https://visitfaribault.com/wp-content/uploads/2025/03/Rendezvous-Public-Days-Poster.png
ORGANIZER;CN="Rice County Historical Society":MAILTO:rchs@rchistory.org
END:VEVENT
BEGIN:VEVENT
DTSTART;TZID=America/Chicago:20250511T100000
DTEND;TZID=America/Chicago:20250511T150000
DTSTAMP:20260424T084009
CREATED:20250415T211926Z
LAST-MODIFIED:20250415T211926Z
UID:10001445-1746957600-1746975600@visitfaribault.com
SUMMARY:Mother's Day Brunch
DESCRIPTION:Adults $29.99\, Seniors $24.99\, Kids 6-12 $12.99\, under 6 free. \nReservations Recommeded \nAssorted desserts\, baked ham\, chef carved prime rib\, french toast\, fresh vegetable\, mashed potatoes\, eggs\, tater tot breakfast hot dish\, vodka chicken and so much more!
URL:https://visitfaribault.com/event/mothers-day-brunch/
LOCATION:Crooked Pint Ale House\, 125 1st Ave NE Faribalut MN\, MN\, 55021\, United States
END:VEVENT
BEGIN:VEVENT
DTSTART;TZID=America/Chicago:20250516T170000
DTEND;TZID=America/Chicago:20250516T190000
DTSTAMP:20260424T084009
CREATED:20250506T172247Z
LAST-MODIFIED:20250506T172250Z
UID:10001477-1747414800-1747422000@visitfaribault.com
SUMMARY:Opening Gallery Reception
DESCRIPTION:Gallery Exhibition May 12- July 1Featuring Artists Kjellgren Alkire\, Paradise Member Artists\, and EPIC
URL:https://visitfaribault.com/event/opening-gallery-reception/
LOCATION:Paradise Center for the Arts\, 321 Central Ave N\, Faribault\, 55021\, United States
ATTACH;FMTTYPE=image/jpeg:https://visitfaribault.com/wp-content/uploads/2025/05/Gallery-Opening-Reception.jpg
ORGANIZER;CN="Paradise Center for the Arts":MAILTO:info@paradisecenterforthearts.org
END:VEVENT
BEGIN:VEVENT
DTSTART;TZID=America/Chicago:20250516T180000
DTEND;TZID=America/Chicago:20250516T210000
DTSTAMP:20260424T084009
CREATED:20250512T184549Z
LAST-MODIFIED:20250513T142416Z
UID:10001485-1747418400-1747429200@visitfaribault.com
SUMMARY:Faribault Car Cruise Nights
DESCRIPTION:Bring your car cruise to an impressive finale at Faribault Car Cruise Nights in the heart of Historic Downtown Faribault.  \n\n\n\nWhether you’re driving a classic or the latest model\, showcase your pride and joy by joining the Faribault Car Cruise Nights Events! \n\n\n\nFeaturing live music from Buffalo Alice!
URL:https://visitfaribault.com/event/faribault-car-cruise-night-4/
LOCATION:Historic Downtown\, Central Avenue\, Faribault\, Minnesota\, 55021\, United States
ATTACH;FMTTYPE=image/jpeg:https://visitfaribault.com/wp-content/uploads/2025/05/Updates-car-Cruise-Nights-Flyer-2.jpg
ORGANIZER;CN="Faribault Car Cruise Night":MAILTO:chamber@faribaultmn.org
END:VEVENT
BEGIN:VEVENT
DTSTART;TZID=America/Chicago:20250517T080000
DTEND;TZID=America/Chicago:20250517T140000
DTSTAMP:20260424T084009
CREATED:20250505T164033Z
LAST-MODIFIED:20250505T164225Z
UID:10001462-1747468800-1747490400@visitfaribault.com
SUMMARY:RCHS Annual Spring Flea Market
DESCRIPTION:Join RCHS for our annual Spring Flea Market! We will have tons of vendors and a great atmosphere. Entrance and parking to the Flea market is free to all! \n\n\n\nThose looking to be a vendor at the event should stop by the RCHS museum and fill out the necessary paperwork or email us at rchs@rchistory.org for a digital copy. Slots are minimum 10′ x 20′ and are $25 per space if reserved beforehand and $30 if signed up the day of the event. Vendors can begin setting up as early as 6am. We ask all vendors to stay until the end of the event at 2pm. \n\n\n\nFor more information call us at 507-332-2121 or email us at rchs@rchistory.org
URL:https://visitfaribault.com/event/rice-county-historical-society-annual-spring-flea-market/
LOCATION:Rice County Historical Society\, 1814 NW 2ND AVE\, FARIBAULT\, MN\, 55021\, United States
ATTACH;FMTTYPE=image/jpeg:https://visitfaribault.com/wp-content/uploads/2025/05/8-x11-Poster-2025-SpringFlea-Market.jpg
ORGANIZER;CN="Rice County Historical Society":MAILTO:rchs@rchistory.org
END:VEVENT
BEGIN:VEVENT
DTSTART;TZID=America/Chicago:20250517T193000
DTEND;TZID=America/Chicago:20250517T210000
DTSTAMP:20260424T084009
CREATED:20250514T142946Z
LAST-MODIFIED:20250514T142949Z
UID:10001488-1747510200-1747515600@visitfaribault.com
SUMMARY:Roy Orbison Tribute by David K and Band
DESCRIPTION:After decades of performing in Minnesota\, 5 years in LA\, 4 years in Texas\, Nashville to NYC\, David K is proud to offer his tribute to Roy Orbison. David K embodies Roy’s distinctive voice performing be-bop 50s\, rockability\, Roy’s complex song structure\, and emotional ballads to bring you a tribute to a true legend.  \n\n\n\nWith familiar tunes like “Pretty Woman\,” “Dream Baby\,” “Blue Bayou\,” and “Only The Lonely\,” this show is guaranteed to have audiences leave humming the tunes they know and love. Join David K as Roy Orbison – a step back in time along the path of one man’s career\, a man who had a tragic but resilient life. 
URL:https://visitfaribault.com/event/roy-orbison-tribute-by-david-k-and-band/
LOCATION:Paradise Center for the Arts\, 321 Central Ave N\, Faribault\, 55021\, United States
ATTACH;FMTTYPE=image/jpeg:https://visitfaribault.com/wp-content/uploads/2025/05/David-K-and-Band.jpg
ORGANIZER;CN="Paradise Center for the Arts":MAILTO:info@paradisecenterforthearts.org
END:VEVENT
BEGIN:VEVENT
DTSTART;TZID=America/Chicago:20250517T200000
DTEND;TZID=America/Chicago:20250517T220000
DTSTAMP:20260424T084009
CREATED:20250512T201945Z
LAST-MODIFIED:20250513T140554Z
UID:10001487-1747512000-1747519200@visitfaribault.com
SUMMARY:Comedy Under The Bridge
DESCRIPTION:A showcase of hilarious Minneapolis stand-up comedians traveling to Faribault to perform for a night full of laughs.
URL:https://visitfaribault.com/event/comedy-under-the-bridge/
LOCATION:10\,000 Drops Craft Distillers\, 28 4th Street Northeast\, Faribault\, Minnesota\, 55021\, United States
ATTACH;FMTTYPE=image/png:https://visitfaribault.com/wp-content/uploads/2025/05/Comedy-Under-The-Bridge.png
ORGANIZER;CN="Comedy Under The Bridge":MAILTO:emailunderthebridge@gmail.com
END:VEVENT
END:VCALENDAR