BEGIN:VCALENDAR
VERSION:2.0
PRODID:-//Visit Faribault Minnesota - ECPv6.15.12.2//NONSGML v1.0//EN
CALSCALE:GREGORIAN
METHOD:PUBLISH
X-WR-CALNAME:Visit Faribault Minnesota
X-ORIGINAL-URL:https://visitfaribault.com
X-WR-CALDESC:Events for Visit Faribault Minnesota
REFRESH-INTERVAL;VALUE=DURATION:PT1H
X-Robots-Tag:noindex
X-PUBLISHED-TTL:PT1H
BEGIN:VTIMEZONE
TZID:America/Chicago
BEGIN:DAYLIGHT
TZOFFSETFROM:-0600
TZOFFSETTO:-0500
TZNAME:CDT
DTSTART:20230312T080000
END:DAYLIGHT
BEGIN:STANDARD
TZOFFSETFROM:-0500
TZOFFSETTO:-0600
TZNAME:CST
DTSTART:20231105T070000
END:STANDARD
BEGIN:DAYLIGHT
TZOFFSETFROM:-0600
TZOFFSETTO:-0500
TZNAME:CDT
DTSTART:20240310T080000
END:DAYLIGHT
BEGIN:STANDARD
TZOFFSETFROM:-0500
TZOFFSETTO:-0600
TZNAME:CST
DTSTART:20241103T070000
END:STANDARD
BEGIN:DAYLIGHT
TZOFFSETFROM:-0600
TZOFFSETTO:-0500
TZNAME:CDT
DTSTART:20250309T080000
END:DAYLIGHT
BEGIN:STANDARD
TZOFFSETFROM:-0500
TZOFFSETTO:-0600
TZNAME:CST
DTSTART:20251102T070000
END:STANDARD
BEGIN:DAYLIGHT
TZOFFSETFROM:-0600
TZOFFSETTO:-0500
TZNAME:CDT
DTSTART:20260308T080000
END:DAYLIGHT
BEGIN:STANDARD
TZOFFSETFROM:-0500
TZOFFSETTO:-0600
TZNAME:CST
DTSTART:20261101T070000
END:STANDARD
END:VTIMEZONE
BEGIN:VEVENT
DTSTART;TZID=America/Chicago:20240907T000000
DTEND;TZID=America/Chicago:20240907T235959
DTSTAMP:20260424T045219
CREATED:20240821T155002Z
LAST-MODIFIED:20240821T155002Z
UID:10001383-1725667200-1725753599@visitfaribault.com
SUMMARY:Patriot RIde
DESCRIPTION:Ride with us Saturday Sept 7th to show your support for a great Veterans cause – local and here at home!\n\n\nAll military personel get Double Rider Rewards points in our store EVERY day\, plus on this day everyone can cash in on double points back on select Red\, White & Blue attire and American Flags!\n\nRegistration starts at 10am here at the store\, Kickstands up at noon as we head to the Toybox Saloon for lunch! After a nice rural route\, we’ll end our day back at 10\,000 Drops Distillery in Faribault for a nice wrap up and social hour.\n\nBe sure to scan the QR to RSVP and get yourself registered to win some door-prizes\, must be present to win! You can also sign up at the door!\n\nAll proceeds from our fun annual ride go directly to Operation 23:0\, helping our local veterans and their families during tough times!
URL:https://visitfaribault.com/event/patriot-ride/
LOCATION:Faribault Harley-Davidson\, 22704 W. Airport Drive\, Faribault\, MN\, 55021\, United States
ATTACH;FMTTYPE=image/jpeg:https://visitfaribault.com/wp-content/uploads/2024/08/FHD-Patriot-Ride-Flyer.jpg
END:VEVENT
BEGIN:VEVENT
DTSTART;TZID=America/Chicago:20240912T173000
DTEND;TZID=America/Chicago:20240912T200000
DTSTAMP:20260424T045219
CREATED:20240821T161802Z
LAST-MODIFIED:20240821T162126Z
UID:10001384-1726162200-1726171200@visitfaribault.com
SUMMARY:TASTE of Faribault 2024
DESCRIPTION:Hungry for a Flavorful Adventure?\n \nJoin us for an unforgettable evening at the Taste of Faribault! Delight in an array of mouthwatering samples from the area’s finest restaurants\, caterers\, and food vendors. Savor local specialties and discover new favorites while enjoying a selection of craft beers\, exquisite wines\, and premium spirits. This is your chance to explore Faribault’s rich culinary scene all in one place. Don’t miss out on this premier tasting event – your taste buds will thank you!\nThursday\, September 12th\, from 5:30 PM to 8:30 PM Faribo West Mall\n \n \nFor more information\, visit faribaultmn.org.\n#TasteOfFaribault #FaribaultMN #FoodAndDrink
URL:https://visitfaribault.com/event/taste-of-faribault-2024/
LOCATION:Faribo West Mall\, 200 Western Ave NW\, Faribault\, MN\, 55021\, United States
ATTACH;FMTTYPE=image/png:https://visitfaribault.com/wp-content/uploads/2024/08/sponsor-4-1.png
ORGANIZER;CN="Faribault Chamber of Commerce & Tourism":MAILTO:chamber@faribaultmn.org
END:VEVENT
BEGIN:VEVENT
DTSTART;TZID=America/Chicago:20241005T100000
DTEND;TZID=America/Chicago:20241005T170000
DTSTAMP:20260424T045220
CREATED:20241005T054304Z
LAST-MODIFIED:20241005T054304Z
UID:10001389-1728122400-1728147600@visitfaribault.com
SUMMARY:2024 Faribault Fall Festival
DESCRIPTION:Fall Fun for Everyone at the Faribault Fall Festival!\nImmerse yourself in the vibrant colors and crisp autumn air at the Faribault Fall Festival! This Saturday\, October 5th\, join us for a day brimming with family-friendly activities\, delicious eats\, and festive entertainment that will have you saying “Fall Y’all!” \nUnleash your inner child and ignite your taste buds! Here’s a peek at the exciting offerings: \nWhimsical Kid’s Costume Parade: Watch in awe as youngsters strut their stuff in their most creative costumes. Line-up: 12:45 PM at Faribault Fire Station\, Start: 1:15 PM\, Route: Coming Soon. \nAnnual Chili Cook-Off: Who will reign supreme? Local chefs and home cooks battle it out for the coveted title of Chili Champion. Come be the judge and taste the best chili in town! Contestant Sign-Up: https://docs.google.com/forms/d/e/1FAIpQLSfhIBVmkQxPhaG2ctnJ0hvKUmc6bbSN6FE3l83h7uEbfWTUzg/viewform Voter/Taster Sign Up: Coming Soon \nFamily Fun Zone: Keep the little ones entertained with a variety of games\, face painting\, crafts\, and more! \nDowntown Delights: Explore the many local restaurants offering their unique culinary creations\, perfect for fueling your fall fun. \nFire Department Open House: Get up close to firetrucks\, meet firefighters\, and learn important fire safety tips! More Info Coming Soon \nAlexander Faribault House Tours: 10:00 am – 2:00 pm FREE \nStudio ARTour: Support local artists by visiting them in their working studios at the Paradise Center. \nFaribault Mill: Blanket Give Away \nOctober Fest Celebration: Raise a glass to fall at Faribault Harley-Davidson with Contests\, Games\, Snacks and Root Beer. \nDon’t miss out on the SALES & Specials! \nGrace & Glory: Something FREE with every purchase! Plus\, exciting raffle drawings and giveaways! \nFaribault Mill: DT Blanket Giveaway\, Free Mill tours\, and Sales 11am – 1PM \nDigital Map: Coming Soon \nJoin us for a day of unforgettable fall festivities in the heart of Faribault! \nFollow us on social media for updates!\n#FaribaultFallFestival #FallFun #ChiliChampion
URL:https://visitfaribault.com/event/2024-faribault-fall-festival/
LOCATION:Downtown Fairbault\, Central Ave N\, Faribault\, MN\, 55021\, United States
ATTACH;FMTTYPE=image/png:https://visitfaribault.com/wp-content/uploads/2024/10/Events-Flyer-10.png
ORGANIZER;CN="Faribault Chamber of Commerce & Tourism":MAILTO:chamber@faribaultmn.org
END:VEVENT
BEGIN:VEVENT
DTSTART;TZID=America/Chicago:20241011T170000
DTEND;TZID=America/Chicago:20241116T190000
DTSTAMP:20260424T045220
CREATED:20240821T155013Z
LAST-MODIFIED:20240821T155013Z
UID:10001368-1728666000-1731783600@visitfaribault.com
SUMMARY:Art Gallery Exhibitions and Artists Opening Reception at Paradise Center for the Arts
DESCRIPTION:You are invited to the opening reception for the newly installed art exhibitions at our four on-site galleries.\n\n \n\nCarlander Gallery:  Shelley Caldwell\n\nVranesh Gallery:    Halloween Group Show\n\nK & M Galley:         Creative Aging Class Instructor Julie Fakler and students\n\nCreger Gallery:       TBD\n\n \n\nOpening Reception: October 11\, 5-7pm\n\nOpening ReceptionExhibitions are available for viewing from October 9 to November 16\, 2024\n\nOpen hours: Wednesday through Friday\, 12pm-5pm and Saturdays\, 10am-2pm\n\n 
URL:https://visitfaribault.com/event/art-gallery-exhibitions-and-artists-opening-reception-at-paradise-center-for-the-arts-2/
LOCATION:Paradise Center for the Arts\, 321 Central Ave N\, Faribault\, 55021\, United States
ATTACH;FMTTYPE=image/jpeg:https://visitfaribault.com/wp-content/uploads/2024/07/Shelley-Caldwell-small-1.jpg
ORGANIZER;CN="Paradise Center for the Arts":MAILTO:info@paradisecenterforthearts.org
END:VEVENT
BEGIN:VEVENT
DTSTART;TZID=America/Chicago:20241101T190000
DTEND;TZID=America/Chicago:20241101T230000
DTSTAMP:20260424T045220
CREATED:20240722T143307Z
LAST-MODIFIED:20240722T143309Z
UID:10001359-1730487600-1730502000@visitfaribault.com
SUMMARY:Fari "Boo" Downtown Bar Crawl & Costume Contest
DESCRIPTION:Fari “Boo” Pub Crawl\n\nThis event is a fundraiser for the Paradise Center for the Arts.  Join the Paradise Center for the Arts and downtown Faribaul tin Celebrating Halloween.   This events is for adults (21 and up).  Entry fee includes registration into the costume contest.\n\n \n\nThe fun starts at 7pm at the Paradise where contestants sign up for the costume contest before heading to the designated downtown bars to be judged.  The paradise Center fot the Arts will be at the center of Fari “Boo”\, with entertainment as well as other activities\, offering Haloween-themed fun.    Contestants will need to visit and be judged at all four bars in downtown Faribault: 10\,000 Drops\, The Signature\, Boxers Bar\, and Our Place on 3rd between 7pm & 10pm to be eligible for the costume contest Prizes.  Awards ceremony will take place at the Paradise at 11pm.  First Place: $500\, Second Place: $250\, and Third Place: $100.  Contestants must be present to win.\n\n \n\nSponsored By:  Cry Baby Craig’s\, Heavy Metal Customs\, Gold Star Mfg.\, Faribault Community Co-op\, Pawn Minnesota\, Boxer’s Bar\, Our Place on 3rd\, The Signature\, 10\,000 Drops\, and Depot Bar and Grill.
URL:https://visitfaribault.com/event/fari-boo-downtown-bar-crawl-costume-contest/
LOCATION:Paradise Center for the Arts\, 321 Central Ave N\, Faribault\, 55021\, United States
ORGANIZER;CN="Paradise Center for the Arts":MAILTO:info@paradisecenterforthearts.org
END:VEVENT
BEGIN:VEVENT
DTSTART;TZID=America/Chicago:20241109T193000
DTEND;TZID=America/Chicago:20241109T210000
DTSTAMP:20260424T045220
CREATED:20240722T143525Z
LAST-MODIFIED:20240722T143525Z
UID:10001362-1731180600-1731186000@visitfaribault.com
SUMMARY:Joseph Hall’s Elvis Rock ‘N’ Remember Tribute
DESCRIPTION:Joseph Hall’s Elvis Rock’N’Remember Tribute\nJoseph Hall has performed all over the world and was a finalist on America’s Got Talent. He has won many awards throughout his career including the “Spirit of Elvis” award. He is officially endorsed by Elvis Presley Enterprises\, and is recognized as one of the top Elvis Tribute artists in the world today.\nSaturday\, November 9 at 7:30 PM\nSponsored by Federated Insurance\n\nBuy Tickets
URL:https://visitfaribault.com/event/joseph-halls-elvis-rock-n-remember-tribute-2/
LOCATION:Paradise Center for the Arts\, 321 Central Ave N\, Faribault\, 55021\, United States
ATTACH;FMTTYPE=image/jpeg:https://visitfaribault.com/wp-content/uploads/2024/07/10565024_702147006537858_3059089867077686146_n-1.jpg
ORGANIZER;CN="Paradise Center for the Arts":MAILTO:info@paradisecenterforthearts.org
END:VEVENT
BEGIN:VEVENT
DTSTART;TZID=America/Chicago:20241121T170000
DTEND;TZID=America/Chicago:20241221T190000
DTSTAMP:20260424T045220
CREATED:20240722T143740Z
LAST-MODIFIED:20240722T143740Z
UID:10001370-1732208400-1734807600@visitfaribault.com
SUMMARY:Holly Days Sale & Opening Reception and Art Exhibition at Paradise Center for the Arts
DESCRIPTION:You are invited to the opening reception for the Holly Days Sale and  newly installed art exhibitions at our four on-site galleries. \n  \nCarlander Gallery:  Holly Days Sale \nVranesh Gallery:    Holly Days Sale \nK & M Galley:         Creative Aging Class Instructors Rhonda Norgaard and Cjar Johnson and students \nCreger Gallery:       TBD \n  \nOpening Reception: November 21\, 11\, 5-7pm \nHolly Days Sale and exhibitions are available for viewing from November 20 to December 21\, 2024 \nOpen hours: Wednesday through Friday\, 12pm-5pm and Saturdays\, 10am-2pm \n 
URL:https://visitfaribault.com/event/holly-days-sale-opening-reception-and-art-exhibition-at-paradise-center-for-the-arts/
LOCATION:Paradise Center for the Arts\, 321 Central Ave N\, Faribault\, 55021\, United States
ATTACH;FMTTYPE=image/png:https://visitfaribault.com/wp-content/uploads/2024/07/Sandra-S-ornaments-small-1.png
ORGANIZER;CN="Paradise Center for the Arts":MAILTO:info@paradisecenterforthearts.org
END:VEVENT
BEGIN:VEVENT
DTSTART;TZID=America/Chicago:20241206T193000
DTEND;TZID=America/Chicago:20241206T210000
DTSTAMP:20260424T045220
CREATED:20240722T143543Z
LAST-MODIFIED:20240722T143543Z
UID:10001364-1733513400-1733518800@visitfaribault.com
SUMMARY:Scrooge!: The Musical\, presented by the Paradise Community Theatre (multiple performances)
DESCRIPTION:  \nScrooge!: The Musical\, presented by the Paradise Community Theatre \nParadise Community Theatre’s 100th Production! \nMusic\, Book\, and Lyrics by Leslie Bricusse \nDirector: Shelley Fitzgerald \nThis enchanting adaptation of Charles Dickens’ beloved novella “A Christmas Carol” will transport audiences to the transformative journey of Ebenezer Scrooge.  Guided by three spirits\, Scrooge discovers the true meaning of Christmas as he confronts his past\, present and potential future.  Set to a delightful musical score written by composer Leslie Bricusse\, (Willy Wonka & the Chocolate Factory) this captivating show will capture the essence of redemption\, compassion\, and the power of human connection. Bring the whole family and experience the warmth of the holiday spirit as one man’s cold heart is thawed. \nPerformances: \nDecember 6\, 7*\, 12\, and 13 at 7:30 PM \nDecember 8\, 14\, and 15 at 2:00 PM \n*ASL Interpreted Performance \n  \nThank you to American Family Insurance Agent Bart Jackson for sponsoring this production!
URL:https://visitfaribault.com/event/scrooge-the-musical-presented-by-the-paradise-community-theatre-multiple-performances-2/
LOCATION:Paradise Center for the Arts\, 321 Central Ave N\, Faribault\, 55021\, United States
ATTACH;FMTTYPE=image/jpeg:https://visitfaribault.com/wp-content/uploads/2024/07/Scrooge-poster-small-1.jpg
ORGANIZER;CN="Paradise Center for the Arts":MAILTO:info@paradisecenterforthearts.org
END:VEVENT
BEGIN:VEVENT
DTSTART;TZID=America/Chicago:20250110T170000
DTEND;TZID=America/Chicago:20250110T190000
DTSTAMP:20260424T045220
CREATED:20240722T143343Z
LAST-MODIFIED:20250108T232049Z
UID:10001372-1736528400-1736535600@visitfaribault.com
SUMMARY:Art Gallery Exhibitions and Artists Opening Reception at Paradise Center for the Arts
DESCRIPTION:You are invited to our newly installed art exhibitions at our four on-site galleries. \n  \nCarlander Gallery:  Laura Andrews \nVranesh Gallery:    Montana Becker \nK & M Galley:         Bob Vogel \nCreger Gallery:       TBD \n  \nOpening Reception: January 10\, 2025\,  5-7pm \nGallery exhibitions are available for viewing from January 8 to February 15\, 2025 \nOpen hours: Wednesday through Friday\, 12pm-5pm and Saturdays\, 10am-2pm \n 
URL:https://visitfaribault.com/event/art-gallery-exhibitions-and-artists-opening-reception-at-paradise-center-for-the-arts/
LOCATION:Paradise Center for the Arts\, 321 Central Ave N\, Faribault\, 55021\, United States
ATTACH;FMTTYPE=image/jpeg:https://visitfaribault.com/wp-content/uploads/2024/07/4.-AndrewsL_Canopy-3_oil_36X36_2024.jpg
ORGANIZER;CN="Paradise Center for the Arts":MAILTO:info@paradisecenterforthearts.org
END:VEVENT
BEGIN:VEVENT
DTSTART;TZID=America/Chicago:20250301T170000
DTEND;TZID=America/Chicago:20250301T220000
DTSTAMP:20260424T045220
CREATED:20250210T213739Z
LAST-MODIFIED:20250213T162700Z
UID:10001420-1740848400-1740866400@visitfaribault.com
SUMMARY:2025 Faribault Flannel Formal
DESCRIPTION:2025 Faribault Flannel Formal \n\n\n\n\n\n\n\nGet ready for the most Minnesotan event in Minnesota\, you betcha! Join us on March 1st\, 2025 at the Craft Beverage Curve in Historic Downtown Faribault for a night of unforgettable moments. \n\n\n\nWhat to Expect:Live Music: Groove to the tunesDrinks & Hotdish: Savor delicious hotdish and refreshing beverages.Lumberjack Games: Test your strength and skills in friendly competitions.Collectible Pint Glass: Take home a souvenir of the event.Contests: Show off your flannel fashion and hotdish skills for a chance to win prizes.Photo Booth: Capture memories with friends and family.Location: Craft Beverage Curve\, 22 4th Street NE\, Faribault\, MN (10\,000 Drops\, Corks & Pints)Date/Time: Saturday\, March 1st\, 2025\, 5:00 PM – 10:00 PMTickets: Snag your spot now – this event sells out fast! Grab your tickets HERE: https://www.eventbrite.com/e/1115932627529?aff=oddtdtcreatorHotdish Contest: Calling all hotdish maestros! Think your hotdish is the best? Sign up for the title of Hotdish Champion: https://forms.gle/8kAEC8dnyASKsA2T6Dress Code: Embrace your inner lumberjack or lumberjane and wear your finest flannel attire! This Years Colors are Blue and Red flannel. \n\n\n\nSponsorship Opportunities: Partner with us to make the Faribault Flannel Formal a success. Contact us today to learn more about sponsorship opportunities. Casie@Faribaultmn.org \n\n\n\nThis event is more Minnesotan than a hotdish at a state fair! So\, grab your flannel\, embrace the lumberjack vibes\, and make memories at the 2025 Faribault Flannel Formal. See you there! \n\n\n\n#FaribaultFlannelFormal #MinnesotaNice  \n\n\n\nSee less
URL:https://visitfaribault.com/event/2025-faribault-flannel-formal/
LOCATION:Craft Beverage Curve\, 28 4TH STREET NE\, FARIBAULT\, MN\, Minnesota\, 55021\, United States
ATTACH;FMTTYPE=image/png:https://visitfaribault.com/wp-content/uploads/2025/02/25-flannel-formal-FLYER-2-1.png
ORGANIZER;CN="Faribault Chamber of Commerce & Tourism":MAILTO:chamber@faribaultmn.org
END:VEVENT
BEGIN:VEVENT
DTSTART;TZID=America/Chicago:20250307T193000
DTEND;TZID=America/Chicago:20250307T210000
DTSTAMP:20260424T045220
CREATED:20250108T231527Z
LAST-MODIFIED:20250108T232059Z
UID:10001405-1741375800-1741381200@visitfaribault.com
SUMMARY:Bad Bad Hats
DESCRIPTION:Bad Bad Hats\n\nBad Bad Hats is an indie rock band from Minneapolis\, Minnesota. The band consists of Kerry Alexander and Chris Hoge. Named after the trouble-making character from the Madeline children’s books\, Bad Bad Hats is defined by a balance of sweet and sour. Their music honors classic pop songwriting\, with nods to nineties rock simplicity and pop-punk frivolity. Through it all\, Alexander’s unflinchingly sincere lyrics cut to the emotional heart of things.\n\n** Sponsored by Artist Julie Fakler\n\n 
URL:https://visitfaribault.com/event/bad-bad-hats/
LOCATION:Paradise Center for the Arts\, 321 Central Ave N\, Faribault\, 55021\, United States
ATTACH;FMTTYPE=image/jpeg:https://visitfaribault.com/wp-content/uploads/2025/01/Bad-Bad-Hats.jpg
ORGANIZER;CN="Paradise Center for the Arts":MAILTO:info@paradisecenterforthearts.org
END:VEVENT
BEGIN:VEVENT
DTSTART;TZID=America/Chicago:20250405T130000
DTEND;TZID=America/Chicago:20250405T150000
DTSTAMP:20260424T045220
CREATED:20250330T084413Z
LAST-MODIFIED:20250330T084413Z
UID:10001437-1743858000-1743865200@visitfaribault.com
SUMMARY:Workshop Series: Embroidery
DESCRIPTION:Have you ever wanted to learn how to embroider? Now is your chance! Join the Rice County Historical Society for the second event in our workshop series and learn the basics of embroidery! Our demonstrator Marie Tuma will show participants how to stamp embroidery patterns and start stitching away. Those who sign up will get an embroidery kit\, sewing hoop\, and will walk away with a completed piece! \nMarie Tuma is the Vice President of the Rice County Historical Society and a long-time volunteer. She’s been responsible for several of RCHS’s exhibits as well as helping processing our collections. She has made a hobby of embroidery and quilting\, and recently led a quilting workshop. Thank you to Marie for sharing her expertise! \nPrice is $20 for Members and $25 for Non-Members! Seats are limited so call 507-332-2121 to reserve a spot\, or visit our website at rchistory.org!
URL:https://visitfaribault.com/event/workshop-series-embroidery/
LOCATION:Rice County Historical Society\, 1814 NW 2ND AVE\, FARIBAULT\, MN\, 55021\, United States
ATTACH;FMTTYPE=image/png:https://visitfaribault.com/wp-content/uploads/2025/03/April-5-Embroidery-Workshop.png
ORGANIZER;CN="Rice County Historical Society":MAILTO:rchs@rchistory.org
END:VEVENT
BEGIN:VEVENT
DTSTART;TZID=America/Chicago:20250412T100000
DTEND;TZID=America/Chicago:20250412T110000
DTSTAMP:20260424T045220
CREATED:20250330T084323Z
LAST-MODIFIED:20250330T084323Z
UID:10001440-1744452000-1744455600@visitfaribault.com
SUMMARY:Kid's Day: Mosaics with Mica Lee Anders
DESCRIPTION:Join us for another awesome kid’s day activity where we will be creating beautiful mosaics and learning about the local history of Rice County’s early African American community with genealogist and historian Mica Lee Anders. Kids will be able to make a picture frame to take home.\n\nContact 507-332-2121 or education@rchistory.org to register for this FREE event.
URL:https://visitfaribault.com/event/kids-day-mosaics-with-mica-lee-anders/
LOCATION:Rice County Historical Society\, 1814 NW 2ND AVE\, FARIBAULT\, MN\, 55021\, United States
ATTACH;FMTTYPE=image/png:https://visitfaribault.com/wp-content/uploads/2025/03/April-Kids-Day.png
ORGANIZER;CN="Rice County Historical Society":MAILTO:rchs@rchistory.org
END:VEVENT
BEGIN:VEVENT
DTSTART;TZID=America/Chicago:20250417T180000
DTEND;TZID=America/Chicago:20250417T190000
DTSTAMP:20260424T045220
CREATED:20250330T084251Z
LAST-MODIFIED:20250330T084251Z
UID:10001439-1744912800-1744916400@visitfaribault.com
SUMMARY:Taopi the "Wounded Man" with Dave Nichols
DESCRIPTION:Have you ever wanted to learn how to embroider? Now is your chance! Join the Rice County Historical Society for the second event in our workshop series and learn the basics of embroidery! Our demonstrator Marie Tuma will show participants how to stamp embroidery patterns and start stitching away. Those who sign up will get an embroidery kit\, sewing hoop\, and will walk away with a completed piece! \nMarie Tuma is the Vice President of the Rice County Historical Society and a long-time volunteer. She’s been responsible for several of RCHS’s exhibits as well as helping processing our collections. She has made a hobby of embroidery and quilting\, and recently led a quilting workshop. Thank you to Marie for sharing her expertise! \nPrice is $20 for Members and $25 for Non-Members! Seats are limited so call 507-332-2121 to reserve a spot\, or visit our website at rchistory.org!
URL:https://visitfaribault.com/event/taopi-the-wounded-man-with-dave-nichols/
LOCATION:Rice County Historical Society\, 1814 NW 2ND AVE\, FARIBAULT\, MN\, 55021\, United States
ORGANIZER;CN="Rice County Historical Society":MAILTO:rchs@rchistory.org
END:VEVENT
END:VCALENDAR