BEGIN:VCALENDAR
VERSION:2.0
PRODID:-//Visit Faribault Minnesota - ECPv6.15.12.2//NONSGML v1.0//EN
CALSCALE:GREGORIAN
METHOD:PUBLISH
X-WR-CALNAME:Visit Faribault Minnesota
X-ORIGINAL-URL:https://visitfaribault.com
X-WR-CALDESC:Events for Visit Faribault Minnesota
REFRESH-INTERVAL;VALUE=DURATION:PT1H
X-Robots-Tag:noindex
X-PUBLISHED-TTL:PT1H
BEGIN:VTIMEZONE
TZID:America/Chicago
BEGIN:DAYLIGHT
TZOFFSETFROM:-0600
TZOFFSETTO:-0500
TZNAME:CDT
DTSTART:20230312T080000
END:DAYLIGHT
BEGIN:STANDARD
TZOFFSETFROM:-0500
TZOFFSETTO:-0600
TZNAME:CST
DTSTART:20231105T070000
END:STANDARD
BEGIN:DAYLIGHT
TZOFFSETFROM:-0600
TZOFFSETTO:-0500
TZNAME:CDT
DTSTART:20240310T080000
END:DAYLIGHT
BEGIN:STANDARD
TZOFFSETFROM:-0500
TZOFFSETTO:-0600
TZNAME:CST
DTSTART:20241103T070000
END:STANDARD
BEGIN:DAYLIGHT
TZOFFSETFROM:-0600
TZOFFSETTO:-0500
TZNAME:CDT
DTSTART:20250309T080000
END:DAYLIGHT
BEGIN:STANDARD
TZOFFSETFROM:-0500
TZOFFSETTO:-0600
TZNAME:CST
DTSTART:20251102T070000
END:STANDARD
END:VTIMEZONE
BEGIN:VEVENT
DTSTART;TZID=America/Chicago:20240316T210000
DTEND;TZID=America/Chicago:20240316T233000
DTSTAMP:20260422T175816
CREATED:20240315T203242Z
LAST-MODIFIED:20240315T203505Z
UID:10000006-1710622800-1710631800@visitfaribault.com
SUMMARY:Mad Alice - Live Music
DESCRIPTION:A tribute to Alice in Chains & Mad Season.
URL:https://visitfaribault.com/event/mad-alice/
LOCATION:Boxers Bar\, Faribault\, Minnesota\, 55021
END:VEVENT
BEGIN:VEVENT
DTSTART;TZID=America/Chicago:20240323T190000
DTEND;TZID=America/Chicago:20240323T210000
DTSTAMP:20260422T175816
CREATED:20240319T131335Z
LAST-MODIFIED:20240319T131335Z
UID:10000009-1711220400-1711227600@visitfaribault.com
SUMMARY:Bryce Leppert- Live Music
DESCRIPTION:A fun evening of great music at the Faribault Elks Lodge! \nhttps://www.facebook.com/BryceLeppertMusic/
URL:https://visitfaribault.com/event/bryce-leppert-live-music/
LOCATION:Faribault Elks Lodge #1166\, 28 3rd Street NW\, Faribault\, MN\, 55021\, United States
ATTACH;FMTTYPE=image/jpeg:https://visitfaribault.com/wp-content/uploads/2024/03/Bryce-Leppert-Live-Music.jpg
ORGANIZER;CN="Faribault Elks Lodge #1166":MAILTO:info@faribaultelks.org
END:VEVENT
BEGIN:VEVENT
DTSTART;TZID=America/Chicago:20240330T103000
DTEND;TZID=America/Chicago:20240330T113000
DTSTAMP:20260422T175817
CREATED:20240319T134601Z
LAST-MODIFIED:20240319T175445Z
UID:10000011-1711794600-1711798200@visitfaribault.com
SUMMARY:Shattuck-St. Mary's 21st Annual Egg Hunt
DESCRIPTION:🎉 Get ready for the most egg-citing event of the year at Shattuck-St. Mary’s School! 🐰 Join us for the 21st Annual Egg Hunt\, a beloved tradition that transforms our picturesque campus into a spring wonderland!\n\n🗓️ Mark your calendars for Saturday\, March 30th\, at 10:30 a.m. and bring along your family and friends for a day filled with egg-cellent adventures! Children aged 1-11 are invited to participate in the hunt of a lifetime.\n\n🌸 With the beauty of our campus as the backdrop\, this egg hunt promises to be one of the largest and most thrilling hunts around! Hidden among the lush greenery and charming architecture are thousands of eggs waiting to be discovered.\n\n🥚 Let the little ones dash and dart through the designated areas tailored to their age groups\, while the older children enjoy a bit of a challenge with some strategic egg hunting. Plus\, keep your eyes peeled for a special appearance by none other than the Easter Bunny\, who will be hopping around for photo opportunities!\n\n🌦️ While we hope for clear skies and sunshine\, in the event of inclement weather\, the hunt will be canceled. But fear not\, because we’ll be back next year with even more egg-citement!\n\n🍭 Admission is free\, but we encourage attendees to bring along non-perishable food items or cash donations. Together\, let’s spread joy and generosity throughout our community!\n\n🎉 Don’t miss out on this egg-stravaganza! Arrive at 10 a.m. to ensure you have plenty of time to find parking and get ready for the hunt. Our friendly volunteers will be on hand to assist you every step of the way.\n\n🥚 Let’s make memories\, spread cheer\, and hunt for eggs together at the Shattuck-St. Mary’s 21st Annual Egg Hunt! See you there! 🌷
URL:https://visitfaribault.com/event/shattuck-st-marys-21st-annual-egg-hunt/
LOCATION:Shattuck-St.Mary’s Campus\, 1000 Shumway Ave\, Faribault\, Minnesota\, 55021
ATTACH;FMTTYPE=image/jpeg:https://visitfaribault.com/wp-content/uploads/2024/03/6431fc828c473.image_.jpg
END:VEVENT
BEGIN:VEVENT
DTSTART;TZID=America/Chicago:20240406T210000
DTEND;TZID=America/Chicago:20240406T235900
DTSTAMP:20260422T175817
CREATED:20240319T132623Z
LAST-MODIFIED:20240319T132623Z
UID:10000010-1712437200-1712447940@visitfaribault.com
SUMMARY:Smokescreen -  Live Music
DESCRIPTION:Rocking Boxers in Faribault on Saturday\, April 6th. Smokescreen takes the stage at 9 pm playing a variety of rock and country music! \nhttps://fb.me/e/3yPdGNOo7
URL:https://visitfaribault.com/event/smokescreen-live-music/
LOCATION:Boxers Bar\, Faribault\, Minnesota\, 55021
ATTACH;FMTTYPE=image/jpeg:https://visitfaribault.com/wp-content/uploads/2024/03/SmokeScreen-April-9th.jpg
ORGANIZER;CN="Boxers Bar &amp%3B Grill":MAILTO:dawn@boxersbar.com
END:VEVENT
BEGIN:VEVENT
DTSTART;TZID=America/Chicago:20240427T180000
DTEND;TZID=America/Chicago:20240427T200000
DTSTAMP:20260422T175817
CREATED:20240426T134107Z
LAST-MODIFIED:20240426T134107Z
UID:10001330-1714240800-1714248000@visitfaribault.com
SUMMARY:Disney Trivia
DESCRIPTION:Study up on your Disney knowledge and join us for trivia at the winery! 2 dates/times to choose from – Saturday (4/27) @ 6pm or Sunday (4/28) @ 1pm.– Free to play– 3 rounds of 12 questions– Prize awarded to each round’s winning team.– Max of 4 people per team
URL:https://visitfaribault.com/event/disney-trivia-2/
LOCATION:Vintage Escapes Winery\, 8950 Dodd Rd\, Kilkenny\, MN\, 56052\, United States
ATTACH;FMTTYPE=image/png:https://visitfaribault.com/wp-content/uploads/2024/04/Trivia-1.png
END:VEVENT
BEGIN:VEVENT
DTSTART;TZID=America/Chicago:20240428T130000
DTEND;TZID=America/Chicago:20240428T150000
DTSTAMP:20260422T175817
CREATED:20240426T133932Z
LAST-MODIFIED:20240426T133932Z
UID:10001331-1714309200-1714316400@visitfaribault.com
SUMMARY:Disney Trivia
DESCRIPTION:Study up on your Disney knowledge and join us for trivia at the winery! 2 dates/times to choose from – Saturday (4/27) @ 6pm or Sunday (4/28) @ 1pm.\n– Free to play\n– 3 rounds of 12 questions\n– Prize awarded to each round’s winning team.\n– Max of 4 people per team
URL:https://visitfaribault.com/event/disney-trivia/
LOCATION:Vintage Escapes Winery\, 8950 Dodd Rd\, Kilkenny\, MN\, 56052\, United States
ATTACH;FMTTYPE=image/png:https://visitfaribault.com/wp-content/uploads/2024/04/Trivia-1-1.png
END:VEVENT
END:VCALENDAR