BEGIN:VCALENDAR
VERSION:2.0
PRODID:-//Visit Faribault Minnesota - ECPv6.15.12.2//NONSGML v1.0//EN
CALSCALE:GREGORIAN
METHOD:PUBLISH
X-WR-CALNAME:Visit Faribault Minnesota
X-ORIGINAL-URL:https://visitfaribault.com
X-WR-CALDESC:Events for Visit Faribault Minnesota
REFRESH-INTERVAL;VALUE=DURATION:PT1H
X-Robots-Tag:noindex
X-PUBLISHED-TTL:PT1H
BEGIN:VTIMEZONE
TZID:America/Chicago
BEGIN:DAYLIGHT
TZOFFSETFROM:-0600
TZOFFSETTO:-0500
TZNAME:CDT
DTSTART:20240310T080000
END:DAYLIGHT
BEGIN:STANDARD
TZOFFSETFROM:-0500
TZOFFSETTO:-0600
TZNAME:CST
DTSTART:20241103T070000
END:STANDARD
BEGIN:DAYLIGHT
TZOFFSETFROM:-0600
TZOFFSETTO:-0500
TZNAME:CDT
DTSTART:20250309T080000
END:DAYLIGHT
BEGIN:STANDARD
TZOFFSETFROM:-0500
TZOFFSETTO:-0600
TZNAME:CST
DTSTART:20251102T070000
END:STANDARD
BEGIN:DAYLIGHT
TZOFFSETFROM:-0600
TZOFFSETTO:-0500
TZNAME:CDT
DTSTART:20260308T080000
END:DAYLIGHT
BEGIN:STANDARD
TZOFFSETFROM:-0500
TZOFFSETTO:-0600
TZNAME:CST
DTSTART:20261101T070000
END:STANDARD
END:VTIMEZONE
BEGIN:VEVENT
DTSTART;TZID=America/Chicago:20250716T000000
DTEND;TZID=America/Chicago:20250720T235959
DTSTAMP:20260423T050005
CREATED:20250716T143002Z
LAST-MODIFIED:20250716T143005Z
UID:10001947-1752624000-1753055999@visitfaribault.com
SUMMARY:Rice County Fair
DESCRIPTION:Prepare for an action-packed adventure for the entire family! From the moment you arrive\, you’ll be immersed in the heart of Rice County’s thriving agriculture and booming businesses! Explore dozens of incredible vendors offering a culinary journey you won’t forget. And of course\, no fair is complete without the classic rides that will send your spirits soaring!
URL:https://visitfaribault.com/event/rice-county-fair-2/
LOCATION:Rice County Fair Grounds\, 1814 2nd Avenue NW\, Faribault\, MN\, 55021\, United States
ATTACH;FMTTYPE=image/jpeg:https://visitfaribault.com/wp-content/uploads/2025/07/Rice-County-Fair.jpg
END:VEVENT
BEGIN:VEVENT
DTSTART;TZID=America/Chicago:20250718T100000
DTEND;TZID=America/Chicago:20250718T110000
DTSTAMP:20260423T050005
CREATED:20250529T150522Z
LAST-MODIFIED:20250529T150526Z
UID:10001510-1752832800-1752836400@visitfaribault.com
SUMMARY:Friday Fun in Central Park: Dazzling Dave\, National Yo-Yo Master
DESCRIPTION:Join Buckham Library outdoors in Faribault’s Central Park at 10:00 AM on Friday\, July 18 for a performance by Dazzling Dave\, National Yo-Yo Master! \n\n\n\nAfter the performance ends\, Dave will lead an optional FREE “How to Yo-Yo” workshop for youth ages 8 and up. SPACE IS LIMITED to 25 youth. REGISTRATION IS REQUIRED by calling the library: 507-334-2089 or emailing Ms. Deni: dbuendorf@selco.info \n\n\n\nDazzling Dave Schulte is a professional yo-yo performer and highly acclaimed champion who has circled the globe since 1998\, thrilling audiences everywhere with his tricks and tips\, all designed to entertain\, educate\, and illuminate the beauty of the growing sport of professional yo-yo. \n\n\n\nLearn more about Dazzling Dave at his website: https://dazzlingdave.com/ \n\n\n\nAn ASL interpreter has been confirmed for this event.
URL:https://visitfaribault.com/event/friday-fun-in-central-park-dazzling-dave-national-yo-yo-master/
LOCATION:Central Park\, 510 2nd Ave NW\, Faribault\, Minnesota\, 55021\, United States
ATTACH;FMTTYPE=image/jpeg:https://visitfaribault.com/wp-content/uploads/2025/05/Fun-Friday-in-Central-Park-Dazzling-Dave-YoYo-Master.jpg
END:VEVENT
BEGIN:VEVENT
DTSTART;TZID=America/Chicago:20250718T180000
DTEND;TZID=America/Chicago:20250718T210000
DTSTAMP:20260423T050005
CREATED:20250512T183119Z
LAST-MODIFIED:20250610T165653Z
UID:10001483-1752861600-1752872400@visitfaribault.com
SUMMARY:Faribault Car Cruise Nights
DESCRIPTION:Bring your car cruise to an impressive finale at Faribault Car Cruise Nights in the heart of Historic Downtown Faribault.  \n\n\n\nWhether you’re driving a classic or the latest model\, showcase your pride and joy by joining the Faribault Car Cruise Nights Events! \n\n\n\nFeaturing live music from Self-Titled!
URL:https://visitfaribault.com/event/faribault-car-cruise-night-2/
LOCATION:Historic Downtown\, Central Avenue\, Faribault\, Minnesota\, 55021\, United States
ATTACH;FMTTYPE=image/png:https://visitfaribault.com/wp-content/uploads/2025/05/Faribault-Car-Cruise-2025-UPDATED-1.png
ORGANIZER;CN="Faribault Car Cruise Night":MAILTO:chamber@faribaultmn.org
END:VEVENT
BEGIN:VEVENT
DTSTART;TZID=America/Chicago:20250718T193000
DTEND;TZID=America/Chicago:20250718T220000
DTSTAMP:20260423T050005
CREATED:20250505T162620Z
LAST-MODIFIED:20250505T162623Z
UID:10001459-1752867000-1752876000@visitfaribault.com
SUMMARY:Assassins: The Musical
DESCRIPTION:Music & Lyrics by Stephen SondheimBook by John WeidmanDirector: Eric Parrish \n\n\n\n\n\nDiscover Assassins\, a multiple Tony Award-Winning show by Stephen Sondheim that delves into America’s fascination with celebrity and the extreme lengths some will go to achieve it. This bold musical interwines the stories of nine individuals linked forever to presidential history\, as “Everybody’s got the right to their dreams…” Don’t miss this riveting journey through America’s past\, presented with humor\, empathy\, and insight. \n\n\n\nJuly 11\, 12\, 18\, and 19 at 7:30 PMJuly 13 & 20 at 2:00 PM \n\n\n\nMember: $18\, Non-Member: $20\, Student: $14
URL:https://visitfaribault.com/event/assassins-the-musical-5/
LOCATION:Paradise Center for the Arts\, 321 Central Ave N\, Faribault\, 55021\, United States
ATTACH;FMTTYPE=image/jpeg:https://visitfaribault.com/wp-content/uploads/2025/05/Assassine-the-musical.jpg
ORGANIZER;CN="Paradise Center for the Arts":MAILTO:info@paradisecenterforthearts.org
END:VEVENT
END:VCALENDAR