BEGIN:VCALENDAR
VERSION:2.0
PRODID:-//Visit Faribault Minnesota - ECPv6.15.12.2//NONSGML v1.0//EN
CALSCALE:GREGORIAN
METHOD:PUBLISH
X-WR-CALNAME:Visit Faribault Minnesota
X-ORIGINAL-URL:https://visitfaribault.com
X-WR-CALDESC:Events for Visit Faribault Minnesota
REFRESH-INTERVAL;VALUE=DURATION:PT1H
X-Robots-Tag:noindex
X-PUBLISHED-TTL:PT1H
BEGIN:VTIMEZONE
TZID:America/Chicago
BEGIN:DAYLIGHT
TZOFFSETFROM:-0600
TZOFFSETTO:-0500
TZNAME:CDT
DTSTART:20240310T080000
END:DAYLIGHT
BEGIN:STANDARD
TZOFFSETFROM:-0500
TZOFFSETTO:-0600
TZNAME:CST
DTSTART:20241103T070000
END:STANDARD
BEGIN:DAYLIGHT
TZOFFSETFROM:-0600
TZOFFSETTO:-0500
TZNAME:CDT
DTSTART:20250309T080000
END:DAYLIGHT
BEGIN:STANDARD
TZOFFSETFROM:-0500
TZOFFSETTO:-0600
TZNAME:CST
DTSTART:20251102T070000
END:STANDARD
BEGIN:DAYLIGHT
TZOFFSETFROM:-0600
TZOFFSETTO:-0500
TZNAME:CDT
DTSTART:20260308T080000
END:DAYLIGHT
BEGIN:STANDARD
TZOFFSETFROM:-0500
TZOFFSETTO:-0600
TZNAME:CST
DTSTART:20261101T070000
END:STANDARD
END:VTIMEZONE
BEGIN:VEVENT
DTSTART;TZID=America/Chicago:20250620T100000
DTEND;TZID=America/Chicago:20250620T110000
DTSTAMP:20260423T061726
CREATED:20250529T145328Z
LAST-MODIFIED:20250529T145331Z
UID:10001508-1750413600-1750417200@visitfaribault.com
SUMMARY:Fun Friday in Central Park: Tuey Wilson\, Comic Stunt Juggler
DESCRIPTION:Join Buckham Library outdoors in Faribault’s Central Park at 10:00 AM on Friday\, June 20 for a performance from Faribault’s own amazing Tuey the Juggler! \n\n\n\nFrom classic juggling stunts to brand-new tricks\, Tuey’s show is not to be missed. Laugh\, gasp\, and cheer on this Guinness World Records holder and longtime library favorite! \n\n\n\nAn ASL interpreter has been confirmed for this event. \n\n\n\nLearn more about Tuey on his website: https://www.tueywilson.com/
URL:https://visitfaribault.com/event/fun-friday-in-central-park-tuey-wilson-comic-stunt-juggler/
LOCATION:Central Park\, 510 2nd Ave NW\, Faribault\, Minnesota\, 55021\, United States
ATTACH;FMTTYPE=image/jpeg:https://visitfaribault.com/wp-content/uploads/2025/05/Fun-Friday-in-Central-Park-Tuey-Wilson.jpg
END:VEVENT
BEGIN:VEVENT
DTSTART;TZID=America/Chicago:20250620T180000
DTEND;TZID=America/Chicago:20250620T210000
DTSTAMP:20260423T061726
CREATED:20250512T182343Z
LAST-MODIFIED:20250610T165434Z
UID:10001482-1750442400-1750453200@visitfaribault.com
SUMMARY:Faribault Car Cruise Nights
DESCRIPTION:Bring your car cruise to an impressive finale at Faribault Car Cruise Nights in the heart of Historic Downtown Faribault. \n\n\n\nWhether you’re driving a classic or the latest model\, showcase your pride and joy by joining the Faribault Car Cruise Nights Events! \n\n\n\nFeaturing live music from the Jason Paulson Band!
URL:https://visitfaribault.com/event/faribault-car-cruise-night/
LOCATION:Historic Downtown\, Central Avenue\, Faribault\, Minnesota\, 55021\, United States
ATTACH;FMTTYPE=image/png:https://visitfaribault.com/wp-content/uploads/2025/05/Faribault-Car-Cruise-2025-UPDATED.png
ORGANIZER;CN="Faribault Car Cruise Night":MAILTO:chamber@faribaultmn.org
END:VEVENT
END:VCALENDAR