BEGIN:VCALENDAR
VERSION:2.0
PRODID:-//Visit Faribault Minnesota - ECPv6.15.12.2//NONSGML v1.0//EN
CALSCALE:GREGORIAN
METHOD:PUBLISH
X-WR-CALNAME:Visit Faribault Minnesota
X-ORIGINAL-URL:https://visitfaribault.com
X-WR-CALDESC:Events for Visit Faribault Minnesota
REFRESH-INTERVAL;VALUE=DURATION:PT1H
X-Robots-Tag:noindex
X-PUBLISHED-TTL:PT1H
BEGIN:VTIMEZONE
TZID:America/Chicago
BEGIN:DAYLIGHT
TZOFFSETFROM:-0600
TZOFFSETTO:-0500
TZNAME:CDT
DTSTART:20240310T080000
END:DAYLIGHT
BEGIN:STANDARD
TZOFFSETFROM:-0500
TZOFFSETTO:-0600
TZNAME:CST
DTSTART:20241103T070000
END:STANDARD
BEGIN:DAYLIGHT
TZOFFSETFROM:-0600
TZOFFSETTO:-0500
TZNAME:CDT
DTSTART:20250309T080000
END:DAYLIGHT
BEGIN:STANDARD
TZOFFSETFROM:-0500
TZOFFSETTO:-0600
TZNAME:CST
DTSTART:20251102T070000
END:STANDARD
BEGIN:DAYLIGHT
TZOFFSETFROM:-0600
TZOFFSETTO:-0500
TZNAME:CDT
DTSTART:20260308T080000
END:DAYLIGHT
BEGIN:STANDARD
TZOFFSETFROM:-0500
TZOFFSETTO:-0600
TZNAME:CST
DTSTART:20261101T070000
END:STANDARD
END:VTIMEZONE
BEGIN:VEVENT
DTSTART;TZID=America/Chicago:20250612T000000
DTEND;TZID=America/Chicago:20250614T235959
DTSTAMP:20260423T061738
CREATED:20250521T185853Z
LAST-MODIFIED:20250521T191240Z
UID:10001491-1749686400-1749945599@visitfaribault.com
SUMMARY:Faribault Heritage Days 
DESCRIPTION:Heritage Days is a cherished annual event dedicated to strengthening community spirit and celebrating all that makes Faribault unique. This multi-day festival provides an opportunity for local businesses\, vendors\, and organizations to connect with the community and showcase their products\, services\, and talents. It’s a time to come together in appreciation of Faribault’s past\, present\, and future. Attendees can explore the city’s rich history through a guided downtown walking tour or enjoy a peaceful morning of painting in the scenic setting of Central Park. Whether you’re looking to engage with local culture\, support small businesses\, or simply enjoy a day out with friends and family\, Heritage Days offers something for everyone.
URL:https://visitfaribault.com/event/faribault-heritage-days/
LOCATION:Central Park\, 510 2nd Ave NW\, Faribault\, Minnesota\, 55021\, United States
ATTACH;FMTTYPE=image/jpeg:https://visitfaribault.com/wp-content/uploads/2025/05/Hertiage-Days-Schedule-updated-as-of-521.jpg
ORGANIZER;CN="Faribault Chamber of Commerce & Tourism":MAILTO:chamber@faribaultmn.org
END:VEVENT
BEGIN:VEVENT
DTSTART;TZID=America/Chicago:20250612T000000
DTEND;TZID=America/Chicago:20250614T235959
DTSTAMP:20260423T061738
CREATED:20250529T142110Z
LAST-MODIFIED:20250529T142217Z
UID:10001505-1749686400-1749945599@visitfaribault.com
SUMMARY:Faribault Woolen Mill Factory Sale 2025
DESCRIPTION:Save The Date: Faribault Mill Factory Sale 2025 June 12\, 13\, and 14 At The Mill – 1500 2nd Avenue NW Faribault\, MN \n\n\n\nOur annual sale at our factory store is coming up! This years sale will look a little different than years prior\, so keep your eyes out for more information and event specifics that will be coming soon! 
URL:https://visitfaribault.com/event/annual-faribault-mill-factory-sale/
LOCATION:Faribault Woolen Mill\, 1500 2nd Ave NW\, Faribault\, Minnesota\, 55021\, United States
ATTACH;FMTTYPE=image/jpeg:https://visitfaribault.com/wp-content/uploads/2025/05/Faribault-Woolen-Mill-Factory-Sale.jpg
ORGANIZER;CN="Faribault Woolen Mill":MAILTO:info@faribaultmill.com
END:VEVENT
BEGIN:VEVENT
DTSTART;TZID=America/Chicago:20250614T090000
DTEND;TZID=America/Chicago:20250614T120000
DTSTAMP:20260423T061738
CREATED:20250506T141856Z
LAST-MODIFIED:20250506T141858Z
UID:10001471-1749891600-1749902400@visitfaribault.com
SUMMARY:Kids Day: Metal Detecting with Brian Schmidt
DESCRIPTION:Join volunteer Brian Schmidt on a treasure-hunt adventure! Learn all about metal detecting safety\, ethics\, and try it out yourself. All kids will find “treasure” to take home! \n\n\n\nThis FREE program is ideal for kids ages 9-12. \n\n\n\nCall 507-332-2121 or email rchs@rchistory.org to sign up
URL:https://visitfaribault.com/event/kids-day-metal-detecting/
LOCATION:Rice County Historical Society\, 1814 NW 2ND AVE\, FARIBAULT\, MN\, 55021\, United States
ATTACH;FMTTYPE=image/jpeg:https://visitfaribault.com/wp-content/uploads/2025/05/Kids-Day-Metal-Detecting-Treasure-Hunt.jpg
ORGANIZER;CN="Rice County Historical Society":MAILTO:rchs@rchistory.org
END:VEVENT
BEGIN:VEVENT
DTSTART;TZID=America/Chicago:20250614T180000
DTEND;TZID=America/Chicago:20250614T190000
DTSTAMP:20260423T061738
CREATED:20250529T153001Z
LAST-MODIFIED:20250529T153009Z
UID:10001513-1749924000-1749927600@visitfaribault.com
SUMMARY:Faribault Heritage Days Grand Parade
DESCRIPTION:The Grand Parade starts at the Rice County Fairgrounds and turns south onto 2nd Ave NW to Central Park. From there it turns west onto 6th St NW for 2 blocks to the end of the parade route. Weather permitting.
URL:https://visitfaribault.com/event/faribault-heritage-days-grand-parade/
LOCATION:Rice County Fair Grounds\, 1814 2nd Avenue NW\, Faribault\, MN\, 55021\, United States
ATTACH;FMTTYPE=image/jpeg:https://visitfaribault.com/wp-content/uploads/2025/05/Heritage-Days-Grand-Parade.jpg
ORGANIZER;CN="Faribault Heritage Days":MAILTO:faribaultheritagedays@gmail.com
END:VEVENT
END:VCALENDAR