BEGIN:VCALENDAR
VERSION:2.0
PRODID:-//Visit Faribault Minnesota - ECPv6.15.12.2//NONSGML v1.0//EN
CALSCALE:GREGORIAN
METHOD:PUBLISH
X-WR-CALNAME:Visit Faribault Minnesota
X-ORIGINAL-URL:https://visitfaribault.com
X-WR-CALDESC:Events for Visit Faribault Minnesota
REFRESH-INTERVAL;VALUE=DURATION:PT1H
X-Robots-Tag:noindex
X-PUBLISHED-TTL:PT1H
BEGIN:VTIMEZONE
TZID:America/Chicago
BEGIN:DAYLIGHT
TZOFFSETFROM:-0600
TZOFFSETTO:-0500
TZNAME:CDT
DTSTART:20240310T080000
END:DAYLIGHT
BEGIN:STANDARD
TZOFFSETFROM:-0500
TZOFFSETTO:-0600
TZNAME:CST
DTSTART:20241103T070000
END:STANDARD
BEGIN:DAYLIGHT
TZOFFSETFROM:-0600
TZOFFSETTO:-0500
TZNAME:CDT
DTSTART:20250309T080000
END:DAYLIGHT
BEGIN:STANDARD
TZOFFSETFROM:-0500
TZOFFSETTO:-0600
TZNAME:CST
DTSTART:20251102T070000
END:STANDARD
BEGIN:DAYLIGHT
TZOFFSETFROM:-0600
TZOFFSETTO:-0500
TZNAME:CDT
DTSTART:20260308T080000
END:DAYLIGHT
BEGIN:STANDARD
TZOFFSETFROM:-0500
TZOFFSETTO:-0600
TZNAME:CST
DTSTART:20261101T070000
END:STANDARD
END:VTIMEZONE
BEGIN:VEVENT
DTSTART;TZID=America/Chicago:20250611T190000
DTEND;TZID=America/Chicago:20250611T203000
DTSTAMP:20260423T071200
CREATED:20250529T163756Z
LAST-MODIFIED:20250529T163759Z
UID:10001516-1749668400-1749673800@visitfaribault.com
SUMMARY:The Great Pages Circus
DESCRIPTION: Faribault\, MN—Get Ready for the Ultimate Circus Adventure! \n\n\n\nMark your calendars because The Great Pages Circus is rolling into town June 11-12\, and you won’t want to miss this action-packed spectacle!  \n\n\n\n Skip the line—grab your tickets online now!  pagescircus.com \n\n\n\nTurn family fun into a tradition! With jaw-dropping aerial acts\, hilarious clowns\, and incredible juggling feats\, there’s something for everyone. Don’t forget the four-legged stars: liberty ponies\, majestic horses\, and camels! And if you’re craving edge-of-your-seat excitement\, the famous Pages Globe of Death might just rev up the adrenaline with some high-speed motorcycle madness!  \n\n\n\n Ticket Info:Adults: $20Kids (12 & Under): 2 FREE with every paid adult!Additional Kids: Just $5 each!Get ready for an unforgettable night under the big top!
URL:https://visitfaribault.com/event/the-great-pages-circus/
LOCATION:Faribault Ice Arena\, 1816 2nd Ave NW\, Faribault\, Minnesota\, 55021\, United States
ATTACH;FMTTYPE=image/jpeg:https://visitfaribault.com/wp-content/uploads/2025/05/The-Great-Pages-Circus.jpg
ORGANIZER;CN="The Great Pages Circus":MAILTO:Support@SarasotaBoxOffice.com
END:VEVENT
END:VCALENDAR