BEGIN:VCALENDAR
VERSION:2.0
PRODID:-//Visit Faribault Minnesota - ECPv6.15.12.2//NONSGML v1.0//EN
CALSCALE:GREGORIAN
METHOD:PUBLISH
X-WR-CALNAME:Visit Faribault Minnesota
X-ORIGINAL-URL:https://visitfaribault.com
X-WR-CALDESC:Events for Visit Faribault Minnesota
REFRESH-INTERVAL;VALUE=DURATION:PT1H
X-Robots-Tag:noindex
X-PUBLISHED-TTL:PT1H
BEGIN:VTIMEZONE
TZID:America/Chicago
BEGIN:DAYLIGHT
TZOFFSETFROM:-0600
TZOFFSETTO:-0500
TZNAME:CDT
DTSTART:20240310T080000
END:DAYLIGHT
BEGIN:STANDARD
TZOFFSETFROM:-0500
TZOFFSETTO:-0600
TZNAME:CST
DTSTART:20241103T070000
END:STANDARD
BEGIN:DAYLIGHT
TZOFFSETFROM:-0600
TZOFFSETTO:-0500
TZNAME:CDT
DTSTART:20250309T080000
END:DAYLIGHT
BEGIN:STANDARD
TZOFFSETFROM:-0500
TZOFFSETTO:-0600
TZNAME:CST
DTSTART:20251102T070000
END:STANDARD
BEGIN:DAYLIGHT
TZOFFSETFROM:-0600
TZOFFSETTO:-0500
TZNAME:CDT
DTSTART:20260308T080000
END:DAYLIGHT
BEGIN:STANDARD
TZOFFSETFROM:-0500
TZOFFSETTO:-0600
TZNAME:CST
DTSTART:20261101T070000
END:STANDARD
END:VTIMEZONE
BEGIN:VEVENT
DTSTART;TZID=America/Chicago:20250607T123000
DTEND;TZID=America/Chicago:20250607T140000
DTSTAMP:20260423T061142
CREATED:20250506T142732Z
LAST-MODIFIED:20250506T142735Z
UID:10001472-1749299400-1749304800@visitfaribault.com
SUMMARY:Family Paint: Spring Flowers
DESCRIPTION:Family Painting: Spring Flowers \n\n\n\nAll ages. Cost: Free \n\n\n\nSaturday\, June 7\, 2025\, 12:30 – 2:00 pm \n\n\n\nJoin artist Kate Langlais for a fun\, free family painting program. Learn about spring flowers that bloom at River Bend\, then try to paint them! \n\n\n\nThis activity is made possible by the voters of Minnesota through a grant from the Minnesota State Arts Board thanks to legislative appropriation from the arts and cultural heritage fund. 
URL:https://visitfaribault.com/event/family-paint-spring-flowers/
LOCATION:River Bend Nature Center\, 1000 Rustad Road\, Faribault\, Minnesota\, 55021\, United States
ATTACH;FMTTYPE=image/jpeg:https://visitfaribault.com/wp-content/uploads/2025/05/Family-Paint-Spring-Flowers.jpg
END:VEVENT
BEGIN:VEVENT
DTSTART;TZID=America/Chicago:20250607T140000
DTEND;TZID=America/Chicago:20250607T170000
DTSTAMP:20260423T061142
CREATED:20250505T182509Z
LAST-MODIFIED:20250505T182512Z
UID:10001468-1749304800-1749315600@visitfaribault.com
SUMMARY:Vibes & Vintages: Live Music with Chris Holm
DESCRIPTION:We’re thrilled to welcome back one a great musician —Chris Holm—for another wonderful night of music at the winery! If you’ve seen Chris perform before\, you know you’re in for a treat. If not\, this is your chance to experience his one-of-a-kind sound live under the pavilion! \n\n\n\n About Chris:Chris Holm is a Minneapolis-based acoustic folk\, blues\, and country musician known for his fiery fingerstyle guitar\, soulful harmonica\, and suitcase drum foot percussion. His high-energy performances channel the spirit of old-school legends like Charley Patton\, blending raw rootsy grit with haunting slide guitar and a signature blue yodel that lingers in the air. \n\n\n\nFrom toe-tapping rhythms to heartfelt melodies\, Chris delivers a show that’s as dynamic as it is down-to-earth—perfectly paired with a glass of your favorite wine. \n\n\n\nSeating is first come\, first served—bring a lawn chair just in case! \n\n\n\n Free to attend | Family-friendly \n\n\n\nJoin us for great wine\, great views\, and the return of a great musician!
URL:https://visitfaribault.com/event/vibes-vintages-live-music-with-chris-holm/
LOCATION:Vintage Escapes Winery\, 8950 Dodd Rd\, Kilkenny\, MN\, 56052\, United States
ATTACH;FMTTYPE=image/jpeg:https://visitfaribault.com/wp-content/uploads/2025/05/Wine-Down-Friday-Live-Music-with-Chris-Holm.jpg
END:VEVENT
BEGIN:VEVENT
DTSTART;TZID=America/Chicago:20250607T190000
DTEND;TZID=America/Chicago:20250607T220000
DTSTAMP:20260423T061142
CREATED:20250505T203208Z
LAST-MODIFIED:20250505T203210Z
UID:10001470-1749322800-1749333600@visitfaribault.com
SUMMARY:RCHS Speakeasy
DESCRIPTION:Calling all Rum Runners\, Bootleggers\, Flappers\, and Moonshiners! Join RCHS for a night of fun\, drinking\, dancing\, and raffles as we step back to the 1920s. Prohibition made bars and the sale of alcohol illegal across the United States\, but illegal bars called Speakeasys showed up in every town and city. \n\n\n\nWe will have swing and jazz music provided by Maryann & The Moneymakers\, Cash Raffles\, Games\, and a Silent Auction full of fantastic prizes! Come dressed in your best 1920s Costume for our Speakeasy Costume Contest! \n\n\n\nThis is an 18+ event\, and IDs will be required to order drinks. To get your tickets click the link or visit the RCHS museum \n\n\n\nTickets are $45 for RCHS Members\, $50 for Non-Members 
URL:https://visitfaribault.com/event/rchs-speakeasy/
LOCATION:The Grand Event Center of Northfield\, 316 Washington Street\, Northfield\, MN\, United States\, Minnesota\, Northfield\, Minnesota\, 55057\, United States
ATTACH;FMTTYPE=image/jpeg:https://visitfaribault.com/wp-content/uploads/2025/05/RCHS-Speakeasy.jpg
ORGANIZER;CN="Rice County Historical Society":MAILTO:rchs@rchistory.org
END:VEVENT
END:VCALENDAR