BEGIN:VCALENDAR
VERSION:2.0
PRODID:-//Visit Faribault Minnesota - ECPv6.15.12.2//NONSGML v1.0//EN
CALSCALE:GREGORIAN
METHOD:PUBLISH
X-WR-CALNAME:Visit Faribault Minnesota
X-ORIGINAL-URL:https://visitfaribault.com
X-WR-CALDESC:Events for Visit Faribault Minnesota
REFRESH-INTERVAL;VALUE=DURATION:PT1H
X-Robots-Tag:noindex
X-PUBLISHED-TTL:PT1H
BEGIN:VTIMEZONE
TZID:America/Chicago
BEGIN:DAYLIGHT
TZOFFSETFROM:-0600
TZOFFSETTO:-0500
TZNAME:CDT
DTSTART:20240310T080000
END:DAYLIGHT
BEGIN:STANDARD
TZOFFSETFROM:-0500
TZOFFSETTO:-0600
TZNAME:CST
DTSTART:20241103T070000
END:STANDARD
BEGIN:DAYLIGHT
TZOFFSETFROM:-0600
TZOFFSETTO:-0500
TZNAME:CDT
DTSTART:20250309T080000
END:DAYLIGHT
BEGIN:STANDARD
TZOFFSETFROM:-0500
TZOFFSETTO:-0600
TZNAME:CST
DTSTART:20251102T070000
END:STANDARD
BEGIN:DAYLIGHT
TZOFFSETFROM:-0600
TZOFFSETTO:-0500
TZNAME:CDT
DTSTART:20260308T080000
END:DAYLIGHT
BEGIN:STANDARD
TZOFFSETFROM:-0500
TZOFFSETTO:-0600
TZNAME:CST
DTSTART:20261101T070000
END:STANDARD
END:VTIMEZONE
BEGIN:VEVENT
DTSTART;TZID=America/Chicago:20250531T090000
DTEND;TZID=America/Chicago:20250531T170000
DTSTAMP:20260425T070758
CREATED:20250505T165632Z
LAST-MODIFIED:20250505T165635Z
UID:10001463-1748682000-1748710800@visitfaribault.com
SUMMARY:Straight River Arts Festival
DESCRIPTION:A fun\, one day event with 30 vendors\, live music\, food and crafts for kids. We will also have a Raku firing by artist Tami Resler.
URL:https://visitfaribault.com/event/straight-river-art-festival-2/
LOCATION:Minnesota
ATTACH;FMTTYPE=image/jpeg:https://visitfaribault.com/wp-content/uploads/2025/05/Straight-River-Art-Festival.jpg
ORGANIZER;CN="Straight River Arts":MAILTO:info@straightriverarts.org
END:VEVENT
BEGIN:VEVENT
DTSTART;TZID=America/Chicago:20250531T140000
DTEND;TZID=America/Chicago:20250531T220000
DTSTAMP:20260425T070758
CREATED:20250325T001603Z
LAST-MODIFIED:20250325T001928Z
UID:10001435-1748700000-1748728800@visitfaribault.com
SUMMARY:Depot Fest 2025
DESCRIPTION:Food truck\, drink specials\, live classic rock music from Steve & Steve and The Old Country Boys\, professional wrestling\, BBQ competition “Smokin for our Veterans” – proceeds going to our local Faribault American Legion.
URL:https://visitfaribault.com/event/depot-fest-2025/
LOCATION:Depot Bar and Grill in Faribault\, 311 Heritage pl\, Faribault\, MN\, 55021\, United States
ATTACH;FMTTYPE=image/jpeg:https://visitfaribault.com/wp-content/uploads/2025/03/IMG_1393.jpeg
ORGANIZER;CN="Depot Bar & Grill":MAILTO:faribaultdepotbarandgrill@gmail.com
END:VEVENT
BEGIN:VEVENT
DTSTART;TZID=America/Chicago:20250531T160000
DTEND;TZID=America/Chicago:20250531T190000
DTSTAMP:20260425T070758
CREATED:20250505T172325Z
LAST-MODIFIED:20250505T172500Z
UID:10001466-1748707200-1748718000@visitfaribault.com
SUMMARY:Vibes & Vintages: Live Music with Simon Cropp
DESCRIPTION:We’re thrilled to welcome Simon Cropp to the Vintage Escapes Winery stage for the very first time! Join us for an evening of unforgettable live music\, great wine\, and vineyard views during Vibes & Vintages. \n\n\n\n About Simon:Simon Cropp is a gifted flatpick guitarist and storyteller whose music sits comfortably between dive bar bravado and fireside introspection. Blending the heartfelt themes of classic country and bluegrass with his own melodic sensibility\, Simon’s performances are both intimate and powerful. Whether solo or with his band Slapdash Bluegrass\, he’s shared the stage with favorites like The Last Revel\, Margo Cilker\, and Possessed by Paul James. \n\n\n\nExpect rich vocals\, expert guitar work\, and songs full of love\, heartbreak\, and stories from the road—all best enjoyed with a glass (or two) of wine in hand. \n\n\n\n Free to attend |  Wine & food available for purchaseBring your friends\, sip something special\, and let the music move you!
URL:https://visitfaribault.com/event/vibes-vintages-live-music-with-simon-cropp/
LOCATION:Vintage Escapes Winery\, 8950 Dodd Rd\, Kilkenny\, MN\, 56052\, United States
ATTACH;FMTTYPE=image/jpeg:https://visitfaribault.com/wp-content/uploads/2025/05/Vintage-Escapes-Winery-Simon-Corpp.jpg
END:VEVENT
END:VCALENDAR