BEGIN:VCALENDAR
VERSION:2.0
PRODID:-//Visit Faribault Minnesota - ECPv6.15.12.2//NONSGML v1.0//EN
CALSCALE:GREGORIAN
METHOD:PUBLISH
X-ORIGINAL-URL:https://visitfaribault.com
X-WR-CALDESC:Events for Visit Faribault Minnesota
REFRESH-INTERVAL;VALUE=DURATION:PT1H
X-Robots-Tag:noindex
X-PUBLISHED-TTL:PT1H
BEGIN:VTIMEZONE
TZID:America/Chicago
BEGIN:DAYLIGHT
TZOFFSETFROM:-0600
TZOFFSETTO:-0500
TZNAME:CDT
DTSTART:20240310T080000
END:DAYLIGHT
BEGIN:STANDARD
TZOFFSETFROM:-0500
TZOFFSETTO:-0600
TZNAME:CST
DTSTART:20241103T070000
END:STANDARD
BEGIN:DAYLIGHT
TZOFFSETFROM:-0600
TZOFFSETTO:-0500
TZNAME:CDT
DTSTART:20250309T080000
END:DAYLIGHT
BEGIN:STANDARD
TZOFFSETFROM:-0500
TZOFFSETTO:-0600
TZNAME:CST
DTSTART:20251102T070000
END:STANDARD
BEGIN:DAYLIGHT
TZOFFSETFROM:-0600
TZOFFSETTO:-0500
TZNAME:CDT
DTSTART:20260308T080000
END:DAYLIGHT
BEGIN:STANDARD
TZOFFSETFROM:-0500
TZOFFSETTO:-0600
TZNAME:CST
DTSTART:20261101T070000
END:STANDARD
END:VTIMEZONE
BEGIN:VEVENT
DTSTART;TZID=America/Chicago:20250524T120000
DTEND;TZID=America/Chicago:20250524T210000
DTSTAMP:20260423T101244
CREATED:20250505T170517Z
LAST-MODIFIED:20250505T170521Z
UID:10001464-1748088000-1748120400@visitfaribault.com
SUMMARY:6-Year Anniversary Celebration
DESCRIPTION:We’re Turning 6 – Come Celebrate With Us! \n\n\n\nIt’s hard to believe it’s already been SIX amazing years – and we’re throwing a party to celebrate the community\, the memories\, and all the good times still to come! \n\n\n\nJoin us for a full day of live music\, delicious eats\, and good vibes as we mark this milestone in style. \n\n\n\n Live Music Lineup: Juliet & The Montagues | 1–4PM – Bringing the jazz and groove to kick off the party! Shenanigans | 5–8PM – High-energy fun and a perfect way to close out the evening! \n\n\n\n Pleasant Grove Pizza Farm will be serving up mouthwatering wood-fired pizza from 1–7PM – come hungry! \n\n\n\n We’re open from 12–9PM\, so swing by anytime and stay as long as you’d like. Whether you’ve been with us since day one or just discovered us recently\, we can’t wait to celebrate this special day with YOU. \n\n\n\nBring your friends\, your family\, and your dancing shoes – let’s make it a birthday to remember! \n\n\n\n(We suggest bringing chairs just in case seats fill up.)
URL:https://visitfaribault.com/event/6-year-anniversary-celebration-at-vintage-escapes-winery/
LOCATION:Vintage Escapes Winery\, 8950 Dodd Rd\, Kilkenny\, MN\, 56052\, United States
ATTACH;FMTTYPE=image/jpeg:https://visitfaribault.com/wp-content/uploads/2025/05/6-Year-Anniversary-Celebration-at-Vinatge-escapes-Winery.jpg
END:VEVENT
END:VCALENDAR