BEGIN:VCALENDAR
VERSION:2.0
PRODID:-//Visit Faribault Minnesota - ECPv6.15.12.2//NONSGML v1.0//EN
CALSCALE:GREGORIAN
METHOD:PUBLISH
X-ORIGINAL-URL:https://visitfaribault.com
X-WR-CALDESC:Events for Visit Faribault Minnesota
REFRESH-INTERVAL;VALUE=DURATION:PT1H
X-Robots-Tag:noindex
X-PUBLISHED-TTL:PT1H
BEGIN:VTIMEZONE
TZID:America/Chicago
BEGIN:DAYLIGHT
TZOFFSETFROM:-0600
TZOFFSETTO:-0500
TZNAME:CDT
DTSTART:20240310T080000
END:DAYLIGHT
BEGIN:STANDARD
TZOFFSETFROM:-0500
TZOFFSETTO:-0600
TZNAME:CST
DTSTART:20241103T070000
END:STANDARD
BEGIN:DAYLIGHT
TZOFFSETFROM:-0600
TZOFFSETTO:-0500
TZNAME:CDT
DTSTART:20250309T080000
END:DAYLIGHT
BEGIN:STANDARD
TZOFFSETFROM:-0500
TZOFFSETTO:-0600
TZNAME:CST
DTSTART:20251102T070000
END:STANDARD
BEGIN:DAYLIGHT
TZOFFSETFROM:-0600
TZOFFSETTO:-0500
TZNAME:CDT
DTSTART:20260308T080000
END:DAYLIGHT
BEGIN:STANDARD
TZOFFSETFROM:-0500
TZOFFSETTO:-0600
TZNAME:CST
DTSTART:20261101T070000
END:STANDARD
END:VTIMEZONE
BEGIN:VEVENT
DTSTART;TZID=America/Chicago:20250518T140000
DTEND;TZID=America/Chicago:20250518T160000
DTSTAMP:20260423T113222
CREATED:20250505T171355Z
LAST-MODIFIED:20250505T171426Z
UID:10001465-1747576800-1747584000@visitfaribault.com
SUMMARY:Rollin' Into Vintage Car Roll-In at Vintage Escapes Winery
DESCRIPTION:We’re revvin’ up for our very first car roll-in at Vintage Escapes Winery — and you’re invited! \n\n\n\nWhether you’ve got a classic car that turns heads or you just love admiring timeless rides\, Rollin’ Into Vintage is the perfect Sunday outing. Bring your beauty to show off\, or bring your friends to sip wine and stroll through a stunning collection of vintage wheels. \n\n\n\n Live Music by Jeff Sartor from The Old Country Boys (2–5 PM) Drivers Bonus – Bring a car to show and receive a $5 coupon toward your purchase of $25 or more! Award-winning Minnesota wines + local beer on tap Beautiful vineyard views and patio seating \n\n\n\nThis is a free\, casual\, no-registration-required event. All cars welcome — muscle\, classic\, vintage\, or custom — and spectators are encouraged! \n\n\n\nAll roads to the winery are paved\, so roll in with ease and style. \n\n\n\nLet’s make this first one unforgettable — we’ll see you at Vintage Escapes
URL:https://visitfaribault.com/event/rollin-into-vintage/
LOCATION:Vintage Escapes Winery\, 8950 Dodd Rd\, Kilkenny\, MN\, 56052\, United States
ATTACH;FMTTYPE=image/jpeg:https://visitfaribault.com/wp-content/uploads/2025/05/Rollin-Into-Vintage.jpg
END:VEVENT
END:VCALENDAR