BEGIN:VCALENDAR
VERSION:2.0
PRODID:-//Visit Faribault Minnesota - ECPv6.15.12.2//NONSGML v1.0//EN
CALSCALE:GREGORIAN
METHOD:PUBLISH
X-ORIGINAL-URL:https://visitfaribault.com
X-WR-CALDESC:Events for Visit Faribault Minnesota
REFRESH-INTERVAL;VALUE=DURATION:PT1H
X-Robots-Tag:noindex
X-PUBLISHED-TTL:PT1H
BEGIN:VTIMEZONE
TZID:America/Chicago
BEGIN:DAYLIGHT
TZOFFSETFROM:-0600
TZOFFSETTO:-0500
TZNAME:CDT
DTSTART:20230312T080000
END:DAYLIGHT
BEGIN:STANDARD
TZOFFSETFROM:-0500
TZOFFSETTO:-0600
TZNAME:CST
DTSTART:20231105T070000
END:STANDARD
BEGIN:DAYLIGHT
TZOFFSETFROM:-0600
TZOFFSETTO:-0500
TZNAME:CDT
DTSTART:20240310T080000
END:DAYLIGHT
BEGIN:STANDARD
TZOFFSETFROM:-0500
TZOFFSETTO:-0600
TZNAME:CST
DTSTART:20241103T070000
END:STANDARD
BEGIN:DAYLIGHT
TZOFFSETFROM:-0600
TZOFFSETTO:-0500
TZNAME:CDT
DTSTART:20250309T080000
END:DAYLIGHT
BEGIN:STANDARD
TZOFFSETFROM:-0500
TZOFFSETTO:-0600
TZNAME:CST
DTSTART:20251102T070000
END:STANDARD
END:VTIMEZONE
BEGIN:VEVENT
DTSTART;TZID=America/Chicago:20240601T120000
DTEND;TZID=America/Chicago:20240601T220000
DTSTAMP:20260422T121212
CREATED:20240529T195727Z
LAST-MODIFIED:20240529T195728Z
UID:10001340-1717243200-1717279200@visitfaribault.com
SUMMARY:DEPOT FEST
DESCRIPTION: \n\n———- Forwarded message ———\nFrom: jeff labeau <cheffreythechef@gmail.com>\nDate: Mon\, May 20\, 2024 at 4:53 PM\nSubject: Fwd: TUESDAY WRESTLING POST\n\n\n\n\n\n\n\n\n\n\n\n\n\nYou won’t want to miss this huge main event at Depot Fest on Saturday\, June 1!\nMinnesota Icon Mitch Paradise takes on Mr. Slammy Davis Jr. himself\, Rampage Santana\, is a first-ever meeting of these two generational talents.\n\nParadise has had a career of battling main eventers in Minnesota for more than 25 years. Rampage is the hot\, young wrestler on the rise.\n\nIt is one match you will want to say you saw live.\n\nAt Depot Fest\, the wrestling card will be from 4 p.m. – 6 p.m. and free to watch. There are some VIP tickets for sale that include front row seating\, choice of a commemorative hat\, T-shirt or glass\, a 50/50 raffle ticket plus a personal V.I.P. server.\n\nIn addition to all the wrestling\, there is a great day planned from noon until 10 p.m.\n\nMusic by Steve & Steve (from Jello Shot & Rattle Snake Justice) will be from Noon-3 p.m.\n\nFrom 7-10 p.m.\, The Old Country Boys will be playing.\n\nThere will be plenty of great food for purchase inside & outside.\n\nInside:\n\nBurgers\, Sandwiches & Apps served Festival Style plus a full bar\n\nOutside:\n\nDepot Food Cabooze (Walleye Fingers\, Chicken Fingers\, Waffle Fries\, Red Neck Pork Chop Nachos & Feller’s Ranch Carne Asada Nachos)\n\nMaster Smoker Brent Kern has (Smoked Whole Chicken Wings\, Pork Chop on a stick & Pulled Pork Sandwiches)\n\nFull outdoor Bar\, Beer Troughs\, Pop & Water Troughs and more!\n\nDo you smell what the Chef is cookin’!
URL:https://visitfaribault.com/event/depot-fest/
LOCATION:Depot Bar and Grill in Faribault\, 311 Heritage pl\, Faribault\, MN\, 55021\, United States
ATTACH;FMTTYPE=image/jpeg:https://visitfaribault.com/wp-content/uploads/2024/05/Screenshot_20240529-141759_Outlook.jpg
END:VEVENT
END:VCALENDAR